BEGIN:VCALENDAR
VERSION:2.0
PRODID:-//ChamberMaster//Event Calendar 2.0//EN
METHOD:PUBLISH
X-PUBLISHED-TTL:P3D
REFRESH-INTERVAL:P3D
CALSCALE:GREGORIAN
BEGIN:VEVENT
DTSTART:20190727T210000Z
DTEND:20190728T020000Z
X-MICROSOFT-CDO-ALLDAYEVENT:FALSE
SUMMARY:Wine Tasting at vomFASS!
DESCRIPTION:Wine Tasting Event at vomFASS! Five fabulous wines for you to enjoy!\n\nStop by at either 2-4PM or 5-7PM on Saturday\, July 27th\n\n$5 per person* | Reservations Suggested | 21+\n\n*Buy one of the featured wines during the event and we will apply the $5 tasting fee to your purchase. This discount is only good during the event time and only applies to the featured wines. Only one discount per person is allowable. Discount is only available to those that paid the $5 tasting fee.
X-ALT-DESC;FMTTYPE=text/html:<div style="margin-left:0px\; margin-right:0px\; text-align:left">\n<div style="margin-left:0px\; margin-right:0px">\n<div style="margin-left:0px\; margin-right:0px">\n<div style="margin-left:0px\; margin-right:0px">\n<p style="margin-left:0px\; margin-right:0px">Wine Tasting Event at vomFASS! Five fabulous wines for you to enjoy!</p>\n\n<p style="margin-left:0px\; margin-right:0px">Stop by at either <strong>2-4PM</strong> or <strong>5-7PM</strong> on <strong>Saturday\, July 27th</strong></p>\n\n<p style="margin-left:0px\; margin-right:0px"><strong>$5 per person* | Reservations Suggested | 21+</strong></p>\n\n<p style="margin-left:0px\; margin-right:0px"><em>*Buy one of the featured wines during the event and we will apply the $5 tasting fee to your purchase. This discount is only good during the event time and only applies to the featured wines. Only one discount per person is allowable. Discount is only available to those that paid the $5 tasting fee.</em></p>\n</div>\n</div>\n</div>\n</div>\n
LOCATION:vomFASS Claremont 101 N. Indian Hill Blvd Suite C2-100 Claremont\, CA 91711
UID:e.838.27496
SEQUENCE:3
DTSTAMP:20260420T015737Z
URL:https://claremont-gzcms.preview.gochambermaster.com/events/details/wine-tasting-at-vomfass-27496
END:VEVENT

END:VCALENDAR
