BEGIN:VCALENDAR
VERSION:2.0
PRODID:-//ChamberMaster//Event Calendar 2.0//EN
METHOD:PUBLISH
X-PUBLISHED-TTL:P3D
REFRESH-INTERVAL:P3D
CALSCALE:GREGORIAN
BEGIN:VEVENT
DTSTART:20181013T150000Z
DTEND:20181013T170000Z
X-MICROSOFT-CDO-ALLDAYEVENT:FALSE
SUMMARY:Walking In Stride to Sleep Inside - Fun Walk Fundraiser for Claremont Homeless Advocacy Program
DESCRIPTION:The DoubleTree by Hilton Claremont Care Committee has partnered with the Claremont Homeless Advocacy Program (CHAP) to host a "Fun Walk" taking place on Saturday\, October 13\, 2018\, at 8am.  Check-in starts at 7:15am. The location will be the track at  Claremont High School. All proceeds will be donated to the Claremont Homeless Advocacy Program.  Please join us  in the raising of funds for this event! We challenge each one of you to help us reach our fundraising goal! If you would like participate in the walk itself\, please see our Eventbrite page to register! However\, participation is not mandatory to make a generous donation .  To learn more about CHAP\, please visit their website: http://chapclaremont.org/\n\n\n\nIf you would like to participate as well as donate\, please follow this link to register: \n\n  https://www.eventbrite.com/o/doubletree-by-hilton-claremont-17810801951\n\n\n\nTo donate: http://bit.ly/CHAP_donations
X-ALT-DESC;FMTTYPE=text/html:<span style="color: rgb(51\, 51\, 51)\;"><span style="font-family: arial\,sans-serif\;"><span style="font-size: 12.5pt\;">The DoubleTree by Hilton Claremont Care Committee has partnered with the Claremont Homeless Advocacy Program (CHAP) to host a &quot\;Fun Walk&quot\; taking place on Saturday\, October 13\, 2018\, at 8am.&nbsp\; Check-in starts at 7:15am. The location will be the track at&nbsp\; Claremont High School. All proceeds will be donated to the Claremont Homeless Advocacy Program.&nbsp\; Please join us&nbsp\; in the raising of funds for this event! We challenge each one of you to help us reach our fundraising goal! If you would like participate in the walk itself\, please see our Eventbrite page to register! However\, participation is not mandatory to make a generous donation .&nbsp\; To learn more about CHAP\, please visit their website:&nbsp\;</span></span></span><a href="http://chapclaremont.org/" style="line-height: inherit\; word-spacing: 0px\; cursor: pointer\; box-sizing: inherit\; orphans: 2\; widows: 2\; font-variant-ligatures: normal\; font-variant-caps: normal\; -webkit-text-stroke-width: 0px\;" target="_blank"><span style="color: rgb(93\, 128\, 0)\;"><span style="font-family: arial\,sans-serif\;"><span style="font-size: 12.5pt\;">http://chapclaremont.org/</span></span></span></a><br />\n<br />\n<span style="color: rgb(51\, 51\, 51)\;"><span style="font-family: arial\,sans-serif\;"><span style="font-size: 12.5pt\;">If you would like to participate as well as donate\, please follow this link to register:&nbsp\;<br />\n&nbsp\;&nbsp\;</span></span></span><a href="https://www.eventbrite.com/o/doubletree-by-hilton-claremont-17810801951" style="line-height: inherit\; word-spacing: 0px\; cursor: pointer\; box-sizing: inherit\; orphans: 2\; widows: 2\; font-variant-ligatures: normal\; font-variant-caps: normal\; -webkit-text-stroke-width: 0px\;" target="_blank"><span style="color: rgb(93\, 128\, 0)\;"><span style="font-family: arial\,sans-serif\;"><span style="font-size: 12.5pt\;">https://www.eventbrite.com/o/doubletree-by-hilton-claremont-17810801951<br />\n<br />\nTo donate:&nbsp\;</span></span></span></a><a href="https://www.eventbrite.com/o/doubletree-by-hilton-claremont-17810801951" style="color: rgb(7\, 130\, 193)\; line-height: inherit\; font-family: sans-serif\, Arial\, Verdana\, &quot\;Trebuchet MS&quot\;\; font-size: 13px\; cursor: pointer\; box-sizing: inherit\; background-color: rgb(255\, 255\, 255)\;" target="_blank">http://bit.ly/CHAP_donations</a><br />\n&nbsp\;
LOCATION:Claremont High School
UID:e.838.20290
SEQUENCE:3
DTSTAMP:20260421T130230Z
URL:https://claremont-gzcms.preview.gochambermaster.com/events/details/walking-in-stride-to-sleep-inside-fun-walk-fundraiser-for-claremont-homeless-advocacy-program-20290
END:VEVENT

END:VCALENDAR
