BEGIN:VCALENDAR
VERSION:2.0
PRODID:-//ChamberMaster//Event Calendar 2.0//EN
METHOD:PUBLISH
X-PUBLISHED-TTL:P3D
REFRESH-INTERVAL:P3D
CALSCALE:GREGORIAN
BEGIN:VEVENT
DTSTART:20190312T020000Z
DTEND:20190312T033000Z
X-MICROSOFT-CDO-ALLDAYEVENT:FALSE
SUMMARY:Todrick Hall: Behind the Curtain
DESCRIPTION:Todrick Hall blends activism and art during a compelling live experience that inspires audiences to believe they can accomplish anything when they take control of their destinies. Celebrated for his creative self-expression and innovative vision\, Hall takes audiences on a journey that is as unique and entertaining as he is. Hall's raw talent and characteristic panache mesmerize audiences while imparting a valuable perspective on what it means to embrace individuality and diversity\, overcome obstacles and produce work that inspires others. Run time 90 minutes. All ages welcome.\nA Glimpse Into The Todrick Hall Experience\n\nTodrick Hall's Magical Journey Through 75 Years Of Disney Songs
X-ALT-DESC;FMTTYPE=text/html:Todrick Hall blends activism and art during a compelling live experience that inspires audiences to believe they can accomplish anything when they take control of their destinies. Celebrated for his creative self-expression and innovative vision\, Hall takes audiences on a journey that is as unique and entertaining as he is. Hall&#39\;s&nbsp\;raw talent and characteristic panache mesmerize audiences while imparting a valuable perspective on what it means to embrace individuality and diversity\, overcome obstacles and produce work that inspires others. Run time 90 minutes. All ages welcome.\n<p><a href="https://www.kepplerspeakers.com/speakers/todrick-hall/videos/5098947410001" target="_blank">A Glimpse Into The Todrick Hall Experience</a></p>\n\n<p><a href="https://www.kepplerspeakers.com/speakers/todrick-hall/videos/5098960087001" target="_blank">Todrick Hall&rsquo\;s Magical Journey Through 75 Years Of Disney Songs</a></p>\n
LOCATION:New location: Seaver Theatre Pomona College 300 E. Bonita Avenue Claremont\, CA 91711
UID:e.838.22297
SEQUENCE:3
DTSTAMP:20260420T164255Z
URL:https://claremont-gzcms.preview.gochambermaster.com/events/details/todrick-hall-behind-the-curtain-22297
END:VEVENT

END:VCALENDAR
