BEGIN:VCALENDAR
VERSION:2.0
PRODID:-//ChamberMaster//Event Calendar 2.0//EN
METHOD:PUBLISH
X-PUBLISHED-TTL:P3D
REFRESH-INTERVAL:P3D
CALSCALE:GREGORIAN
BEGIN:VEVENT
DTSTART:20180410T180000Z
DTEND:20180410T200000Z
X-MICROSOFT-CDO-ALLDAYEVENT:FALSE
SUMMARY:A Celebration of Life for David Colvill Lincoln
DESCRIPTION:Claremont Lincoln University invites you to attend the Celebration of Life for David Colvill Lincoln\, 1925 - 2018.
X-ALT-DESC;FMTTYPE=text/html:Claremont Lincoln University invites you to attend the Celebration of Life for David Colvill Lincoln\, 1925 - 2018.<br />\n<br />\n&nbsp\;
LOCATION:Shelton Park West Bonita Avenue and Harvard Avenue North Claremont\, CA
UID:e.838.17852
SEQUENCE:3
DTSTAMP:20260422T095516Z
URL:https://claremont-gzcms.preview.gochambermaster.com/events/details/the-celebration-of-life-for-david-colvill-lincoln-17852
END:VEVENT

END:VCALENDAR
