BEGIN:VCALENDAR
VERSION:2.0
PRODID:-//ChamberMaster//Event Calendar 2.0//EN
METHOD:PUBLISH
X-PUBLISHED-TTL:P3D
REFRESH-INTERVAL:P3D
CALSCALE:GREGORIAN
BEGIN:VEVENT
DTSTART:20190903T153000Z
DTEND:20190903T163000Z
X-MICROSOFT-CDO-ALLDAYEVENT:FALSE
SUMMARY:Tax Measure Coffee
DESCRIPTION:Please join us for coffee and conversation on Measure CR\, the ballot measure which proposes a 3/4% increase to the Sales and Use Tax in Claremont. Join us on Tuesday\, September 3rd at 8:30 at the Chamber office to discuss why we believe this measure is so important to the future of our City.\n\n \n\nClaremont Chamber of Commerce Position:\n\nAs an organization dedicated to promoting a thriving business community in Claremont\, the chamber has historically closely scrutinized any proposed tax measure. After careful consideration\, the Claremont Chamber supports the City of Claremont's proposed local tax measure because it will ensure that Claremont sales tax dollars stay in Claremont for use in funding important services such as maintenance of urban forests\, transportation infrastructure\, maintenance of community parks and programs\, and police staffing that directly affect Claremont's status as an attractive city to visit\, shop and live. This tax will be paid by anyone who purchases goods in Claremont\, regardless of their residence. There is a high likelihood that Claremont residents will end up paying higher sales tax\n\nbecause outside agencies are actively considering putting a tax measure on the ballot. Passage of this local measure will ensure that our tax dollars stay in Claremont.
X-ALT-DESC;FMTTYPE=text/html:<div style="font-family: Arial\, Verdana\, Helvetica\, sans-serif\; white-space: pre-wrap\; background-color: rgb(255\, 255\, 255)\; font-size: 14px\;">Please join us for coffee and conversation on Measure CR\, the ballot measure which proposes a 3/4% increase to the Sales and Use Tax in Claremont. Join us on Tuesday\, September 3<sup style="line-height: 0\; font-size: 14px\;">rd</sup>&nbsp\;at 8:30 at the Chamber office to discuss why we believe this measure is so important to the future of our City.</div>\n\n<div style="font-family: Arial\, Verdana\, Helvetica\, sans-serif\; white-space: pre-wrap\; background-color: rgb(255\, 255\, 255)\; font-size: 14px\;">&nbsp\;</div>\n\n<div style="font-family: Arial\, Verdana\, Helvetica\, sans-serif\; white-space: pre-wrap\; background-color: rgb(255\, 255\, 255)\; font-size: 14px\;">Claremont Chamber of Commerce Position:</div>\n\n<div style="color: rgb(64\, 63\, 66)\; font-family: Arial\, Verdana\, Helvetica\, sans-serif\; white-space: pre-wrap\; background-color: rgb(255\, 255\, 255)\; font-size: 14px\;"><span style="color: rgb(0\, 0\, 0)\;">As an organization dedicated to promoting a thriving business community in Claremont\, the chamber has historically closely scrutinized any proposed tax measure. After careful consideration\, the Claremont Chamber supports the City of Claremont&rsquo\;s proposed local tax measure because it will ensure that Claremont sales tax dollars stay in Claremont for use in funding important services such as maintenance of urban forests\, transportation infrastructure\, maintenance of community parks and programs\, and police staffing that directly affect Claremont&rsquo\;s status as an attractive city to visit\, shop and live. This tax will be paid by anyone who purchases goods in Claremont\, regardless of their residence. There is a high likelihood that Claremont residents will end up paying higher sales tax</span></div>\n\n<div style="color: rgb(64\, 63\, 66)\; font-family: Arial\, Verdana\, Helvetica\, sans-serif\; font-size: 12px\; white-space: pre-wrap\; background-color: rgb(255\, 255\, 255)\;"><span style="font-size: 14px\; color: rgb(0\, 0\, 0)\;">because outside agencies are actively considering putting a tax measure on the ballot. Passage of this local measure will ensure that our tax dollars stay in Claremont.</span></div>\n
LOCATION:Claremont Chamber of Commerce 205 Yale Ave. Claremont\, CA 91711
UID:e.838.27682
SEQUENCE:3
DTSTAMP:20260420T015827Z
URL:https://claremont-gzcms.preview.gochambermaster.com/events/details/tax-measure-coffee-27682
END:VEVENT

END:VCALENDAR
