BEGIN:VCALENDAR
VERSION:2.0
PRODID:-//ChamberMaster//Event Calendar 2.0//EN
METHOD:PUBLISH
X-PUBLISHED-TTL:P3D
REFRESH-INTERVAL:P3D
CALSCALE:GREGORIAN
BEGIN:VEVENT
DTSTART:20161206T030000Z
DTEND:20161206T043000Z
X-MICROSOFT-CDO-ALLDAYEVENT:FALSE
SUMMARY:Sustainability Dialog: A CARBON FEE AND DIVIDEND PROGRAM To Combat Global Warming
DESCRIPTION:This event is sponsored by Sustainable Claremont\, the League of Women Voters\, the Interfaith Sustainability Council\, and Pomona College.\n\n\n\nThe Claremont City Council is asked to pass a resolution supporting a national carbon fee and dividend (CFAD).  CFAD is a non-partisan\, market-based\, and revenue-neutral solution to counter global warming.  The fee would be applied to production and imports of coal\, oil\, and natural gas\, with the proceeds returned equally to American families.  This approach can greatly reduce US greenhouse gas emissions by shifting the market away from fossil fuels to renewables and increasing energy efficiencies over the decades while improving our health\, creating jobs and protecting family budgets.  CFAD experts John Odell (USC) and Rob Haw (JPL) will discuss the proposal\, its implications\, and lead a dialogue.
X-ALT-DESC;FMTTYPE=text/html:<em>This event is sponsored by Sustainable Claremont\, the League of Women Voters\, the Interfaith Sustainability Council\, and Pomona College.</em><br />\n<br />\nThe Claremont City Council is asked to pass a resolution supporting a national carbon fee and dividend (CFAD). &nbsp\;CFAD is a non-partisan\, market-based\, and revenue-neutral solution to counter global warming. &nbsp\;The fee would be applied to production and imports of coal\, oil\, and natural gas\, with the proceeds returned equally to American families. &nbsp\;This approach can greatly reduce US greenhouse gas emissions by shifting the market away from fossil fuels to renewables and increasing energy efficiencies over the decades while improving our health\, creating jobs and protecting family budgets. &nbsp\;CFAD experts John Odell (USC) and Rob Haw (JPL) will discuss the proposal\, its implications\, and lead a dialogue.
LOCATION:Hahn 101 Pomona College 420 North Harvard Ave Claremont\, CA 91711
UID:e.838.14106
SEQUENCE:3
DTSTAMP:20260424T214319Z
URL:https://claremont-gzcms.preview.gochambermaster.com/events/details/sustainability-dialog-a-carbon-fee-and-dividend-program-to-combat-global-warming-14106
END:VEVENT

END:VCALENDAR
