BEGIN:VCALENDAR
VERSION:2.0
PRODID:-//ChamberMaster//Event Calendar 2.0//EN
METHOD:PUBLISH
X-PUBLISHED-TTL:P3D
REFRESH-INTERVAL:P3D
CALSCALE:GREGORIAN
BEGIN:VEVENT
DTSTART:20190617T150000Z
DTEND:20190717T190000Z
X-MICROSOFT-CDO-ALLDAYEVENT:FALSE
SUMMARY:Summer Shakespeare Camp
DESCRIPTION:Summer Shakespeare Camp is a great way to spend the summer for kids ages 10-14.  This high energy\, engaging acting camp engages kids in learning all about the bard\, Elizabethan theatre and language\, stage combat\, how to write a comedy or tragedy\, Shakespearian props and costumes and more!  Mon-Thurs. 8am-12pm\n\n\n\nThe Theatre Tech Camp is for kids\, ages 12-16 who want to learn about the behind the scenes stuff that makes theatre happen.  Kids will learn basic set construction\, scenic painting\, lighting\, sound\, and prop construction.  Mon-Thurs. 12:30-4:30pm
X-ALT-DESC;FMTTYPE=text/html:Summer Shakespeare Camp is a great way to spend the summer for kids ages 10-14. &nbsp\;This high energy\, engaging acting camp engages kids in learning all about the bard\, Elizabethan theatre and language\, stage combat\, how to write a comedy or tragedy\, Shakespearian props and costumes and more! &nbsp\;Mon-Thurs. 8am-12pm<br />\n<br />\nThe Theatre Tech Camp is for kids\, ages 12-16 who want to learn about the behind the scenes stuff that makes theatre happen. &nbsp\;Kids will learn basic set construction\, scenic painting\, lighting\, sound\, and prop construction. &nbsp\;Mon-Thurs. 12:30-4:30pm<br />\n<br />\n&nbsp\;
LOCATION:OJP Black Box Studio Theatre\, 2009 Porterfield Way\, Ste. H\, Upland and the Sontag Greek Theater at Pomona College
UID:e.838.27470
SEQUENCE:3
DTSTAMP:20260420T051417Z
URL:https://claremont-gzcms.preview.gochambermaster.com/events/details/summer-shakespeare-camp-27470
END:VEVENT

END:VCALENDAR
