BEGIN:VCALENDAR
VERSION:2.0
PRODID:-//ChamberMaster//Event Calendar 2.0//EN
METHOD:PUBLISH
X-PUBLISHED-TTL:P3D
REFRESH-INTERVAL:P3D
CALSCALE:GREGORIAN
BEGIN:VEVENT
DTSTART:20190711T033000Z
DTEND:20190711T053000Z
X-MICROSOFT-CDO-ALLDAYEVENT:FALSE
SUMMARY:Startup Grind X with Bing Turner
DESCRIPTION:210E Workspace is partnering with Startup Grind X\, Claremont Chapter to host Bing Turner\, founder of HEG/Heritage Certified Farmers Market to share with us how a small business can provide an active concept that can be used to empower communities and to create change for a healthier perspective and healthier local environment.
X-ALT-DESC;FMTTYPE=text/html:210E Workspace is partnering with Startup Grind X\, Claremont Chapter to host Bing Turner\, founder of HEG/Heritage Certified Farmers Market to share with us how a small business can provide an active concept that can be used to empower communities and to create change for a healthier perspective and healthier local environment.
LOCATION:Sanctuary Coffee\, Claremont
UID:e.838.27485
SEQUENCE:3
DTSTAMP:20260420T033817Z
URL:https://claremont-gzcms.preview.gochambermaster.com/events/details/startup-grind-x-with-bing-turner-27485
END:VEVENT

END:VCALENDAR
