BEGIN:VCALENDAR
VERSION:2.0
PRODID:-//ChamberMaster//Event Calendar 2.0//EN
METHOD:PUBLISH
X-PUBLISHED-TTL:P3D
REFRESH-INTERVAL:P3D
CALSCALE:GREGORIAN
BEGIN:VEVENT
DTSTART:20190330T233000Z
DTEND:20190331T023000Z
X-MICROSOFT-CDO-ALLDAYEVENT:FALSE
SUMMARY:Souper Steppers
DESCRIPTION:Souper Steppers\n\nDelicious homemade soup dinner overlooking beautiful sunset views in a private home.\n\nA racewalking demo is offered for interested parties before the dinner.\n\nThe demo begins at 4:30pm and is optional. Dinner is at 6pm.\n\n \n\nRacewalking Demo 4:30-5:30pm @ Claremont High School Track\n\n \n\n\n\n \n\nThis event is part of the Claremont Community Foundation's annual fundraiser\,\n\nPARTY PARADE\, a series of fundraising events throughout March.\n\n\nProceeds from Party Parade go to support the work of the Foundation\, whose mission is to encourage charitable giving and to continue raising awareness of our community's greatest needs and support the organizations that serve them.
X-ALT-DESC;FMTTYPE=text/html:<div style="text-align:center"><strong><span style="color:#008080"><u><span style="font-size:18px">Souper Steppers</span></u></span></strong></div>\n\n<div style="text-align:center"><span style="color:rgb(0\, 0\, 0)">Delicious homemade soup&nbsp\;</span><span style="color:rgb(0\, 0\, 0)">dinner overlooking beautiful sunset views in a private home.</span></div>\n\n<div style="text-align:center"><span style="color:rgb(0\, 0\, 0)">A racewalking demo is offered for interested parties&nbsp\;</span><span style="color:rgb(0\, 0\, 0)">before the dinner.<br />\nThe demo begins at 4:30pm and is optional. Dinner&nbsp\;</span><span style="color:rgb(0\, 0\, 0)">is at 6pm.</span><br />\n&nbsp\;</div>\n\n<div style="text-align:center"><span style="color:rgb(0\, 0\, 0)">Racewalking Demo 4:30-5:30pm @&nbsp\;</span><span style="color:rgb(0\, 0\, 0)">Claremont High School Track</span></div>\n\n<div style="text-align:center">&nbsp\;</div>\n\n<p style="text-align:center"><br />\n&nbsp\;</p>\n\n<div style="text-align:center"><strong><span style="font-size:16px">This event is part of the Claremont Community Foundation&#39\;s annual fundraiser\,<br />\nPARTY PARADE\, a series of&nbsp\;</span></strong><strong><span style="font-size:16px">fundraising events throughout March.</span></strong></div>\n<br />\n<span style="font-size:12px"><em>Proceeds from Party Parade go to support the work of the Foundation\, whose mission is to encourage charitable giving and to continue raising awareness of our community&#39\;s greatest needs and support the organizations that serve them.</em></span>
LOCATION:Racewalk Demo CHS 1601 N Indian Hill Blvd. Dinner Home of Janice Hoffmann 2605 N. Mountain Ave.\, Claremont\, CA 91711
UID:e.838.23251
SEQUENCE:3
DTSTAMP:20260420T180330Z
URL:https://claremont-gzcms.preview.gochambermaster.com/events/details/souper-steppers-23251
END:VEVENT

END:VCALENDAR
