BEGIN:VCALENDAR
VERSION:2.0
PRODID:-//ChamberMaster//Event Calendar 2.0//EN
METHOD:PUBLISH
X-PUBLISHED-TTL:P3D
REFRESH-INTERVAL:P3D
CALSCALE:GREGORIAN
BEGIN:VEVENT
DTSTART:20190306T200000Z
DTEND:20190306T220000Z
X-MICROSOFT-CDO-ALLDAYEVENT:FALSE
SUMMARY:Set Yourself Apart - Learn the Secrets to Listing & Selling
DESCRIPTION:SET YOURSELF APART\n\n\n	Be the Professional with a DIFFERENT MESSAGE\n	Learn the secrets to Listing & Selling\n	More Homes using Reverse\n	Discover the HECM for Purchase Financing Option\n\n\n \n\nIf you are looking for a way to help nearly 79 million baby boomers1 retire in the home of their dreams\, the Home Equity Conversion Mortgage (HECM) may be the solution you've been waiting for! Known as a reverse mortgage\, this FHA-insured loan option can make it easier for home buyers aged 62 and older to afford the home and location they want  while helping to preserve  their retirement assets.\n\n \n\nHow can the HECM for Purchase (H4P) help Realtors & Builders?\n\n \n\n\n	Increase buyers' purchase power   Higher priced homes with desired upgrades may now be within buyers' reach.\n	Capture new customers   Homeowners age 62 and older planning to move don't want monthly mortgage payments*\, and wish to preserve retirement funds.\n	Increase sales - Homeowners can now consider selling existing home to get a more suitable H4P loan for new home.\n	Set yourself apart   Be the professional in your market with the knowledge that offers HECM financing options.\n	Be the professional who provides the way to help adult homeowners finance the perfect home for their retirement years.\n	Increase purchasing power-Your clients can buy a better home closer to family or friends. \n\n\n \n\n1 Source: Reverse Market Insight data as of June 2014.\n\n \n\nLearn practical & actionable steps you can use now to serve a growing market\n\nHeld at Citrus Valley Assoc. HQ Glendora \, Live Streamed to East & West \n\n \n\nWed March 6th  12:00- 2:00 \n\nRegister at:   CVAR.NET\n\nFEES:  CVAR  Members: $10.00\n\nNon Members: $15.00
X-ALT-DESC;FMTTYPE=text/html:<p>SET YOURSELF APART</p>\n\n<ul>\n	<li>Be the Professional with a DIFFERENT MESSAGE</li>\n	<li>Learn the secrets to Listing &amp\; Selling</li>\n	<li>More Homes using Reverse</li>\n	<li>Discover the HECM for Purchase Financing Option</li>\n</ul>\n\n<p>&nbsp\;</p>\n\n<p>If you are looking for a way to help nearly 79 million baby boomers1 retire in the home of their dreams\, the Home Equity Conversion Mortgage (HECM) may be the solution you&rsquo\;ve been waiting for! Known as a reverse mortgage\, this FHA-insured loan option can make it easier for home buyers aged 62 and older to afford the home and location they want&ndash\; while helping to preserve&nbsp\; their retirement assets.</p>\n\n<p>&nbsp\;</p>\n\n<p>How can the HECM for Purchase (H4P) help Realtors &amp\; Builders?</p>\n\n<p>&nbsp\;</p>\n\n<ul>\n	<li>Increase buyers&rsquo\; purchase power &ndash\; Higher priced homes with desired upgrades may now be within buyers&rsquo\; reach.</li>\n	<li>Capture new customers &ndash\; Homeowners age 62 and older planning to move don&rsquo\;t want monthly mortgage payments*\, and wish to preserve retirement funds.</li>\n	<li>Increase sales - Homeowners can now consider selling existing home to get a more suitable H4P loan for new home.</li>\n	<li>Set yourself apart &ndash\; Be the professional in your market with the knowledge that offers HECM financing options.</li>\n	<li>Be the professional who provides the way to help adult homeowners finance the perfect home for their retirement years.</li>\n	<li>Increase purchasing power-Your clients can buy a better home closer to family or friends.&nbsp\;</li>\n</ul>\n\n<p>&nbsp\;</p>\n\n<p>1 Source: Reverse Market Insight data as of June 2014.</p>\n\n<p>&nbsp\;</p>\n\n<p>Learn practical &amp\; actionable steps you can use now to serve a growing market</p>\n\n<p>Held at Citrus Valley Assoc. HQ Glendora \, Live Streamed to East &amp\; West&nbsp\;</p>\n\n<p>&nbsp\;</p>\n\n<p>Wed March 6th&nbsp\; 12:00- 2:00&nbsp\;</p>\n\n<p>Register at: &nbsp\; <a href="http://CVAR.NET"><span style="color:#dca10d">CVAR.NET</span></a></p>\n\n<p>FEES:&nbsp\; CVAR&nbsp\; Members: $10.00</p>\n\n<p>Non Members: $15.00</p>\n
LOCATION:Citrus Valley Association of Realtors 504 E Route 66\, Glendora\, California 91740
UID:e.838.23206
SEQUENCE:3
DTSTAMP:20260420T164254Z
URL:https://claremont-gzcms.preview.gochambermaster.com/events/details/set-yourself-apart-learn-the-secrets-to-listing-selling-23206
END:VEVENT

END:VCALENDAR
