BEGIN:VCALENDAR
VERSION:2.0
PRODID:-//ChamberMaster//Event Calendar 2.0//EN
METHOD:PUBLISH
X-PUBLISHED-TTL:P3D
REFRESH-INTERVAL:P3D
CALSCALE:GREGORIAN
BEGIN:VEVENT
DTSTART:20190818T010000Z
DTEND:20190818T040000Z
X-MICROSOFT-CDO-ALLDAYEVENT:FALSE
SUMMARY:Rotary Club of Claremont - 90th Anniversary!
DESCRIPTION:Please join us as we celebrate 90 years of servicing local and global communities.\n\n\n\nFeaturing a special Rotary recognition presentation\, club history exhibit\, and live music by the Robbie Davis Quartet.\n\n\n\nRSVP with Susie Ilsley\, Susie.ilsley@yahoo.com\, 909-921-8272.
X-ALT-DESC;FMTTYPE=text/html:Please join us as we celebrate 90 years of servicing local and global communities.<br />\n<br />\nFeaturing a special Rotary recognition presentation\, club history exhibit\, and live music by the Robbie Davis Quartet.<br />\n<br />\nRSVP with Susie Ilsley\,&nbsp\;<a href="mailto:Susie.ilsley@yahoo.com">Susie.ilsley@yahoo.com</a>\, 909-921-8272.&nbsp\;
LOCATION:Rancho Santa Ana Botanic Garden 1500 N. College Ave Claremont
UID:e.838.27668
SEQUENCE:3
DTSTAMP:20260420T003429Z
URL:https://claremont-gzcms.preview.gochambermaster.com/events/details/rotary-club-of-claremont-90th-anniversary-27668
END:VEVENT

END:VCALENDAR
