BEGIN:VCALENDAR
VERSION:2.0
PRODID:-//ChamberMaster//Event Calendar 2.0//EN
METHOD:PUBLISH
X-PUBLISHED-TTL:P3D
REFRESH-INTERVAL:P3D
CALSCALE:GREGORIAN
BEGIN:VEVENT
DTSTART:20190324T180000Z
DTEND:20190324T200000Z
X-MICROSOFT-CDO-ALLDAYEVENT:FALSE
SUMMARY:Rosé & Croquet
DESCRIPTION:Ros  & Croquet\n\nHosted by Louise Brewer and Olga Fe\n\nThis relaxing afternoon takes place at a private home and includes brunch with French pastries from Cr me Bakery\, mini-pancakes\, a bubbly bar and much more. Then kick off your shoes and play a game of croquet\, horseshoes or Bocce ball in the fresh Spring air! \n\n \n\nThis event is part of the Claremont Community Foundation's annual fundraiser\,\n\nPARTY PARADE\, a series of fundraising events throughout March.\n\n\nProceeds from Party Parade go to support the work of the Foundation\, whose mission is to encourage charitable giving and to continue raising awareness of our community's greatest needs and support the organizations that serve them.
X-ALT-DESC;FMTTYPE=text/html:<div style="text-align:center"><br />\n<strong><span style="color:#008080"><u><span style="font-size:18px">Ros&eacute\; &amp\; Croquet</span></u></span></strong></div>\n\n<p style="text-align:center"><span style="font-size:12px"><span style="background-color:transparent\; color:rgb(0\, 0\, 0)\; font-family:arial"><em><strong>Hosted by Louise Brewer and Olga Fe</strong></em></span></span></p>\n\n<p><span style="font-size:12px">This relaxing afternoon takes place at a private home and includes brunch with French pastries from Cr&eacute\;me Bakery\, mini-pancakes\, a bubbly bar and much more. Then kick off your shoes and play a game of croquet\, horseshoes or Bocce ball in the fresh Spring air!&nbsp\;</span><br />\n&nbsp\;</p>\n\n<div style="text-align:center"><span style="font-size:14px"><strong>This event is part of the Claremont Community Foundation&#39\;s annual fundraiser\,<br />\nPARTY PARADE\, a series of&nbsp\;</strong><strong>fundraising events throughout March.</strong></span></div>\n<br />\n<span style="font-size:12px"><em>Proceeds from Party Parade go to support the work of the Foundation\, whose mission is to encourage charitable giving and to continue raising awareness of our community&#39\;s greatest needs and support the organizations that serve them.</em></span>
LOCATION:Private Home 1920 N. Indian Hill Blvd. Claremont
UID:e.838.23249
SEQUENCE:3
DTSTAMP:20260420T193228Z
URL:https://claremont-gzcms.preview.gochambermaster.com/events/details/ros&#233;-croquet-23249
END:VEVENT

END:VCALENDAR
