BEGIN:VCALENDAR
VERSION:2.0
PRODID:-//ChamberMaster//Event Calendar 2.0//EN
METHOD:PUBLISH
X-PUBLISHED-TTL:P3D
REFRESH-INTERVAL:P3D
CALSCALE:GREGORIAN
BEGIN:VEVENT
DTSTART:20151117T200000Z
DTEND:20151117T203000Z
X-MICROSOFT-CDO-ALLDAYEVENT:FALSE
SUMMARY:Ribbon Cutting- Claremont Market Place
DESCRIPTION:Join us as we celebrate a new Chamber member and Claremont business.
X-ALT-DESC;FMTTYPE=text/html:Join us as we celebrate a new Chamber member and Claremont business.
LOCATION:Claremont Market Place 260 W. Bonita Ave. Claremont
UID:e.838.11429
SEQUENCE:3
DTSTAMP:20260426T021635Z
URL:https://claremont-gzcms.preview.gochambermaster.com/events/details/ribbon-cutting-claremont-market-place-11-17-2015-11429
END:VEVENT

END:VCALENDAR
