BEGIN:VCALENDAR
VERSION:2.0
PRODID:-//ChamberMaster//Event Calendar 2.0//EN
METHOD:PUBLISH
X-PUBLISHED-TTL:P3D
REFRESH-INTERVAL:P3D
CALSCALE:GREGORIAN
BEGIN:VEVENT
DTSTART:20180813T190000Z
DTEND:20180813T220000Z
X-MICROSOFT-CDO-ALLDAYEVENT:FALSE
SUMMARY:Pizza\, Pig\, and Pinot Tasting
DESCRIPTION:Join us for a Special Afternoon Tasting 30+ Pinot Varietals:Pinot Noir\, Pinot Blanc & More. Chef will be Roasting a\n\nPig to Create a Variety of Pork Appetizers to beServed with Summer-Inspired Pizzas.
X-ALT-DESC;FMTTYPE=text/html:Join us for a Special Afternoon Tasting 30+ Pinot Varietals:Pinot Noir\, Pinot Blanc &amp\; More. Chef will be Roasting a<br />\nPig to Create a Variety of Pork Appetizers to beServed with Summer-Inspired Pizzas.
LOCATION:Tutti Mangia Italian Grill 102 Harvard Ave. Claremont\, CA 91711
UID:e.838.20163
SEQUENCE:3
DTSTAMP:20260422T000608Z
URL:https://claremont-gzcms.preview.gochambermaster.com/events/details/pizza-pig-and-pinot-tasting-20163
END:VEVENT

END:VCALENDAR
