BEGIN:VCALENDAR
VERSION:2.0
PRODID:-//ChamberMaster//Event Calendar 2.0//EN
METHOD:PUBLISH
X-PUBLISHED-TTL:P3D
REFRESH-INTERVAL:P3D
CALSCALE:GREGORIAN
BEGIN:VEVENT
DTSTART:20180224T180000Z
DTEND:20180224T220000Z
X-MICROSOFT-CDO-ALLDAYEVENT:FALSE
SUMMARY:OPEN HOUSE- Kinetik Performance Fitness Studio
DESCRIPTION:Join us for our beginning of the year OPEN HOUSE! We are celebrating our 3 year anniversary and what better way to celebrate than with new friends and current members. Come on over an enjoy some light snacks and drinks\, resources from our local health and wellness establishments\, and don't forget to enter into our RAFFLE drawing! Fun for all ages\, check out our studio and see what Kinetik Performance can do to improve your fitness for better health!
X-ALT-DESC;FMTTYPE=text/html:Join us for our beginning of the year OPEN HOUSE! We are celebrating our 3 year anniversary and what better way to celebrate than with new friends and current members. Come on over an enjoy some light snacks and drinks\, resources from our local health and wellness establishments\, and don&#39\;t forget to enter into our RAFFLE drawing! Fun for all ages\, check out our studio and see what Kinetik Performance can do to improve your fitness for better health!
LOCATION:Fitness Studio 1336 Monte Vista Ave. Suite 13 Upland CA 91786
UID:e.838.17617
SEQUENCE:3
DTSTAMP:20260422T233515Z
URL:https://claremont-gzcms.preview.gochambermaster.com/events/details/open-house-kinetik-performance-fitness-studio-17617
END:VEVENT

END:VCALENDAR
