BEGIN:VCALENDAR
VERSION:2.0
PRODID:-//ChamberMaster//Event Calendar 2.0//EN
METHOD:PUBLISH
X-PUBLISHED-TTL:P3D
REFRESH-INTERVAL:P3D
CALSCALE:GREGORIAN
BEGIN:VEVENT
DTSTART:20180614T013000Z
DTEND:20180614T030000Z
X-MICROSOFT-CDO-ALLDAYEVENT:FALSE
SUMMARY:New Frontiers in Stroke Care
DESCRIPTION:Stroke no longer has to be life ending or disabling. Deborah Keasler\, RN\, Director of Cardiovascular Services\, wil present sign and symptoms of stroke\, the most up to date treatment openions for acute stroke including the extended treatment window and state-of-the-art therapy.
X-ALT-DESC;FMTTYPE=text/html:Stroke no longer has to be life ending or disabling. Deborah Keasler\, RN\, Director of Cardiovascular Services\, wil present sign and symptoms of stroke\, the most up to date treatment openions for acute stroke including the extended treatment window and state-of-the-art therapy.&nbsp\;
LOCATION:Pomona Valley Health Center 1601 N. Monte Vista Ave.\, Claremont
UID:e.838.18904
SEQUENCE:3
DTSTAMP:20260422T030333Z
URL:https://claremont-gzcms.preview.gochambermaster.com/events/details/new-frontiers-in-stroke-care-18904
END:VEVENT

END:VCALENDAR
