BEGIN:VCALENDAR
VERSION:2.0
PRODID:-//ChamberMaster//Event Calendar 2.0//EN
METHOD:PUBLISH
X-PUBLISHED-TTL:P3D
REFRESH-INTERVAL:P3D
CALSCALE:GREGORIAN
BEGIN:VEVENT
DTSTART:20170328T010000Z
DTEND:20170328T040000Z
X-MICROSOFT-CDO-ALLDAYEVENT:FALSE
SUMMARY:Monday Night Bingo!
DESCRIPTION:This event is sponsored by Foothill AIDS Project.\n\n\n\nEnjoy Big Queen Bingo at Hamburger Mary's Ontario! Play Bingo! with a chance to win one of several prizes\, including a gift box from MAC Cosmetics\, a $100 jewelry gift card\, and more! \n\n\n\nHamburger Mary's will serve its full menu of delicious burgers and thirst-quenching drinks! Suggested donation $20.
X-ALT-DESC;FMTTYPE=text/html:<span style="font-family:arial\,helvetica\,sans-serif"><span style="color:rgb(75\, 79\, 86)\; font-size:14px"><em>This event is sponsored by Foothill AIDS Project.</em><br />\n<br />\nEnjoy Big Queen Bingo at Hamburger Mary&#39\;s Ontario! Play Bingo! with a chance to win one of </span></span><span style="color:rgb(75\, 79\, 86)\; font-family:helvetica\,arial\,sans-serif\; font-size:14px"><span style="font-family:arial\,helvetica\,sans-serif">several</span></span><span style="font-family:arial\,helvetica\,sans-serif"><span style="color:rgb(75\, 79\, 86)\; font-size:14px"> prizes\, including a gift box from MAC Cosmetics\, a $100 jewelry gift card\, and more!&nbsp\;</span><br />\n<br />\n<span style="color:rgb(75\, 79\, 86)\; font-size:14px">Hamburger Mary&#39\;s will serve its full menu of delicious burgers and thirst-quenching drinks! Suggested donation $20.</span></span>
LOCATION:Hamburger Mary's Ontario 3550 Porsche Way Ontario\, California 91764
UID:e.838.15513
SEQUENCE:3
DTSTAMP:20260424T124441Z
URL:https://claremont-gzcms.preview.gochambermaster.com/events/details/monday-night-bingo-15513
END:VEVENT

END:VCALENDAR
