BEGIN:VCALENDAR
VERSION:2.0
PRODID:-//ChamberMaster//Event Calendar 2.0//EN
METHOD:PUBLISH
X-PUBLISHED-TTL:P3D
REFRESH-INTERVAL:P3D
CALSCALE:GREGORIAN
BEGIN:VEVENT
DTSTART:20160904T180000Z
DTEND:20160904T210000Z
X-MICROSOFT-CDO-ALLDAYEVENT:FALSE
SUMMARY:Mimosas & Muffins Tasting Event
DESCRIPTION:This event is sponsored by vonFASS Claremont.\n\n\n\nPerfect start to any day! Mimosas made with delicious vomFASS liqueurs and bubbly paired with muffins made with exquisite vomFASS oils and vinegars.
X-ALT-DESC;FMTTYPE=text/html:<span style="font-size:14px"><span style="font-family:arial\,helvetica\,sans-serif"><span style="color:black"><em>This event is sponsored by vonFASS Claremont.</em><br />\n<br />\nPerfect start to any day! Mimosas made with delicious vomFASS liqueurs and bubbly paired with muffins made with exquisite vomFASS oils and vinegars. </span><br />\n&nbsp\;</span></span>
LOCATION:vomFASS Claremont 101 N. Indian Hill Blvd Suite C2-100 (enter on 1st street) Claremont\, CA 91711 Tel: (909) 399-0256 info@vomfassclaremont.com
UID:e.838.12473
SEQUENCE:3
DTSTAMP:20260425T001305Z
URL:https://claremont-gzcms.preview.gochambermaster.com/events/details/mimosas-muffins-tasting-event-09-04-2016-12473
END:VEVENT

END:VCALENDAR
