BEGIN:VCALENDAR
VERSION:2.0
PRODID:-//ChamberMaster//Event Calendar 2.0//EN
METHOD:PUBLISH
X-PUBLISHED-TTL:P3D
REFRESH-INTERVAL:P3D
CALSCALE:GREGORIAN
BEGIN:VEVENT
DTSTART:20190505T000000Z
DTEND:20190505T060000Z
X-MICROSOFT-CDO-ALLDAYEVENT:FALSE
SUMMARY:Middle Tree Announces LEAF Affordable Saturday Night Childcare For Parents & Educational Fun Night For Kids PreK through 6th Grade!
DESCRIPTION:Middle Tree's trained staff of teaching professionals will entertain the Kids\, while Parents can enjoy a night out exploring downtown Claremont's variety of amazing restaurants & bars\, unique shops and other attractions. \n\nProgram Schedule - Available Now and every Saturday Night through Saturday\, May 25\, 2019.\n\n\n\nCost: Middle Tree and Claremont Chamber of Commerce Members $50.00 per student \n\nNon-Members $60.00 per student  50% off for each additional student. \n\nAll forms of payment are accepted. Payment is due upon booking.\n\n5pm - 6pm  Dropoff and Pizza\n\n\n\n\n6pm - 9pm Learning Projects\, Math Games\, Science Experiments\, Arts & Crafts\n\n\n\n\n \n\n\n\n\n\n9pm - 11pm Movie and Pick Up
X-ALT-DESC;FMTTYPE=text/html:<div>\n<div>\n<p><span style="font-size:12px"><span style="font-family:verdana"><span style="background-color:transparent\; color:rgb(34\, 34\, 34)">Middle Tree&#39\;s trained staff of teaching professionals will entertain the Kids\, while Parents can enjoy a night out exploring downtown </span></span><span style="background-color:transparent\; color:rgb(34\, 34\, 34)\; font-family:arial"><span style="font-family:verdana">Claremont&rsquo\;s variety</span><span style="font-family:verdana"> of amazing restaurants &amp\; bars\, unique shops </span></span></span><span style="background-color:transparent\; color:rgb(34\, 34\, 34)\; font-family:arial\; font-size:11pt"><span style="font-family:verdana"><span style="font-size:12px">and</span></span></span><span style="font-size:12px"><span style="font-family:verdana"><span style="background-color:transparent\; color:rgb(34\, 34\, 34)"> other attractions.&nbsp\;</span></span></span></p>\n\n<p><span style="font-size:12px"><span style="font-family:verdana"><span style="background-color:transparent\; color:rgb(34\, 34\, 34)">Program Schedule - </span><span style="color:rgb(34\, 34\, 34)">Available Now and every Saturday Night through Saturday\, May 25\, 2019.</span><br />\n<br />\nCost:&nbsp\;<strong>Middle Tree and Claremont Chamber of Commerce Members&nbsp\;</strong>$50.00 per student&nbsp\;<br />\n<strong>Non-Members</strong>&nbsp\;$60.00 per student&nbsp\;&nbsp\;</span></span><strong>50% off for each additional student.</strong><span style="font-family:verdana\; font-size:12px">&nbsp\;<br />\nAll forms of payment are accepted. Payment is due upon booking.</span></p>\n\n<p><span style="font-family:verdana\; font-size:12px"><span style="background-color:transparent\; color:rgb(34\, 34\, 34)">5pm - 6pm</span></span><span style="font-family:verdana\; font-size:12px"><span style="background-color:transparent\; color:rgb(34\, 34\, 34)"> &nbsp\;Dropoff and Pizza</span></span></p>\n</div>\n</div>\n\n<div>\n<p><span style="font-size:12px"><span style="font-family:verdana"><span style="background-color:transparent\; color:rgb(34\, 34\, 34)">6pm - 9pm</span></span><span style="font-family:verdana"><span style="background-color:transparent\; color:rgb(34\, 34\, 34)"> Learning Projects\, Math Games\, Science Experiments\, Arts &amp\; Crafts</span></span></span></p>\n</div>\n\n<div>\n<div>\n<p>&nbsp\;</p>\n</div>\n</div>\n\n<div>\n<div>\n<p><span style="font-size:12px"><span style="font-family:verdana"><span style="background-color:transparent\; color:rgb(34\, 34\, 34)">9pm - 11pm</span></span><span style="font-family:verdana"><span style="background-color:transparent\; color:rgb(34\, 34\, 34)"> Movie and Pick Up</span></span></span></p>\n\n<div>&nbsp\;</div>\n</div>\n</div>\n
LOCATION:Middle Tree Offices and Classrooms 250 West 1st StreetSuite 210 (Upstairs) Claremont\, CA 91711
UID:e.838.22942
SEQUENCE:3
DTSTAMP:20260420T070613Z
URL:https://claremont-gzcms.preview.gochambermaster.com/events/details/middle-tree-announces-leaf-affordable-saturday-night-childcare-for-parents-educational-fun-night-for-kids-prek-through-6th-grade-05-04-2019-22942
END:VEVENT

END:VCALENDAR
