BEGIN:VCALENDAR
VERSION:2.0
PRODID:-//ChamberMaster//Event Calendar 2.0//EN
METHOD:PUBLISH
X-PUBLISHED-TTL:P3D
REFRESH-INTERVAL:P3D
CALSCALE:GREGORIAN
BEGIN:VEVENT
DTSTART:20180606T183000Z
DTEND:20180606T200000Z
X-MICROSOFT-CDO-ALLDAYEVENT:FALSE
SUMMARY:Lunch and Learn - Real Estate Wirefraud Security
DESCRIPTION:**This is a FREE EVENT!**\n\n\n\nLUNCH AND LEARN\n\nWEDNESDAY\,\n\nJUNE 6TH\n\n11:30 AM 1:00 PM\n\n\n\nLunch is on us!\n\nCome and Learn!\n\n\n\nFEATURING : HEATHER LOWREY\n\nGENERAL MANAGER OF\n\nCLAREMONT ESCROW\n\n\n\nClaremont Escrow is a 100% independently owned Escrow Company that has no affiliation to any Real Estate Broker\, Mortgage Broker\, or Title Company. This allows them to give clients the service they deserve. With their numerous wire transactions per day\, and strict adherence to industry rules and regulations\, Claremont Escrow is well versed in wire transfer security.\n\n\n\nWORKSHOP HIGHLIGHTS\n\n\n\n- Key Highlights:\n\n- Biggest wire-fraud security threats\n\n- How to work using a safer mindset\n\n- The dangers of unsecured networks\n\n- How to protect your companies email system\n\n\n\nRSVP TODAY!\n\n\n\nPhone : (909) 562-3243\n\nEmail : claremontevents@perlmortgage.com\n\n\n\nPerl Mortgage\n\nConference Center\n\n250 W. 1st.\, Ste. 346\n\nClaremont\, Ca 91711\n\n\n\nPERL MORTGAGE\, CLAREMONT\n\nPERL\, YOUR LENDER FOR LIFE\n\nBUY A HOME - REFINANCE\n\n\n\n**This is a FREE EVENT!**
X-ALT-DESC;FMTTYPE=text/html:<span style="color:rgb(75\, 79\, 86)\; font-family:helvetica\,arial\,sans-serif\; font-size:14px">**This is a FREE EVENT!**</span><br />\n<br />\n<span style="color:rgb(75\, 79\, 86)\; font-family:helvetica\,arial\,sans-serif\; font-size:14px">LUNCH AND LEARN</span><br />\n<span style="color:rgb(75\, 79\, 86)\; font-family:helvetica\,arial\,sans-serif\; font-size:14px">WEDNESDAY\,</span><br />\n<span style="color:rgb(75\, 79\, 86)\; font-family:helvetica\,arial\,sans-serif\; font-size:14px">JUNE 6TH</span><br />\n<span style="color:rgb(75\, 79\, 86)\; font-family:helvetica\,arial\,sans-serif\; font-size:14px">11:30 AM 1:00 PM</span><br />\n<br />\n<span style="color:rgb(75\, 79\, 86)\; font-family:helvetica\,arial\,sans-serif\; font-size:14px">Lunch is on us!</span><br />\n<span style="color:rgb(75\, 79\, 86)\; font-family:helvetica\,arial\,sans-serif\; font-size:14px">Come and Learn!</span><br />\n<br />\n<span style="color:rgb(75\, 79\, 86)\; font-family:helvetica\,arial\,sans-serif\; font-size:14px">FEATURING : HEATHER LOWREY</span><br />\n<span style="color:rgb(75\, 79\, 86)\; font-family:helvetica\,arial\,sans-serif\; font-size:14px">GENERAL MANAGER OF</span><br />\n<span style="color:rgb(75\, 79\, 86)\; font-family:helvetica\,arial\,sans-serif\; font-size:14px">CLAREMONT ESCROW<br />\n<br />\nClaremont Escrow is a 100% independently owned Escrow Company that has no affiliation to any Real Estate Broker\, Mortgage Broker\, or Title Company. This allows them to give clients the service they deserve. With their numerous wire transactions per day\, and strict adherence to industry rules and regulations\, Claremont Escrow is well versed in wire transfer security.<br />\n<br />\nWORKSHOP HIGHLIGHTS<br />\n<br />\n- Key Highlights:<br />\n- Biggest wire-fraud security threats<br />\n- How to work using a safer mindset<br />\n- The dangers of unsecured networks<br />\n- How to protect your companies email system<br />\n<br />\nRSVP TODAY!<br />\n<br />\n<span style="font-family:inherit"><span style="font-family:inherit">Phone :&nbsp\;</span><span style="font-family:inherit"><span style="font-family:inherit">(909) 562-3243</span></span></span><br />\n<span style="font-family:inherit">Email : claremontevents@perlmortga</span>ge.com<br />\n<br />\nPerl Mortgage<br />\nConference Center<br />\n250 W. 1st.\, Ste. 346<br />\nClaremont\, Ca 91711<br />\n<br />\nPERL MORTGAGE\, CLAREMONT<br />\nPERL\, YOUR LENDER FOR LIFE<br />\nBUY A HOME - REFINANCE<br />\n<br />\n**This is a FREE EVENT!**</span>
LOCATION:Perl Mortgage Conference Center 250 W. 1st.\, Ste. 346 Claremont\, Ca 91711
UID:e.838.18899
SEQUENCE:3
DTSTAMP:20260422T072846Z
URL:https://claremont-gzcms.preview.gochambermaster.com/events/details/lunch-and-learn-real-estate-wirefraud-security-18899
END:VEVENT

END:VCALENDAR
