BEGIN:VCALENDAR
VERSION:2.0
PRODID:-//ChamberMaster//Event Calendar 2.0//EN
METHOD:PUBLISH
X-PUBLISHED-TTL:P3D
REFRESH-INTERVAL:P3D
CALSCALE:GREGORIAN
BEGIN:VEVENT
DTSTART:20160917T170000Z
DTEND:20160917T190000Z
X-MICROSOFT-CDO-ALLDAYEVENT:FALSE
SUMMARY:League of Women Voters Opening Meeting
DESCRIPTION:This event is sponsored by League of Women Voters.\n\n\n\nThe topic of the Opening Meeting will be Looking Forward in 2016-17. Public is invited.
X-ALT-DESC;FMTTYPE=text/html:<em>This event is sponsored by League of Women Voters.</em><br />\n<br />\nThe topic of the Opening Meeting will be Looking Forward in 2016-17. Public is invited.
LOCATION:Padua Room at Hughes Center 1700 Danbury Road Claremont\, Ca 91711
UID:e.838.13487
SEQUENCE:3
DTSTAMP:20260425T001624Z
URL:https://claremont-gzcms.preview.gochambermaster.com/events/details/league-of-women-voters-opening-meeting-13487
END:VEVENT

END:VCALENDAR
