BEGIN:VCALENDAR
VERSION:2.0
PRODID:-//ChamberMaster//Event Calendar 2.0//EN
METHOD:PUBLISH
X-PUBLISHED-TTL:P3D
REFRESH-INTERVAL:P3D
CALSCALE:GREGORIAN
BEGIN:VEVENT
DTSTART:20190326T170000Z
DTEND:20190326T180000Z
X-MICROSOFT-CDO-ALLDAYEVENT:FALSE
SUMMARY:How to Save with Tax Credits
DESCRIPTION:Each year\, employers claim about $1 billion in tax credits under the Work Opportunity Tax Credit (WOTC) program. Sign up for our free webinar to learn how you qualify for $1\,200 to $9\,600 in federal tax credits per qualified hire.\n\n\n\nP.S. Chances are you either have hired or will hire an individual who qualifies you for a tax credit\, so why not learn more?!
X-ALT-DESC;FMTTYPE=text/html:<span style="font-family:lato-regular\,helveticaneuew01-55roma\,helvetica neue\,helvetica\,arial\,sans-serif\; font-size:14px">Each year\, employers claim about $1 billion in tax credits under the Work Opportunity Tax Credit (WOTC) program. Sign up for our free webinar to learn how you qualify for $1\,200 to $9\,600 in federal tax credits per qualified hire.<br />\n<br />\nP.S. Chances are you either have hired or will hire an individual who qualifies you for a tax credit\, so why not learn more?!</span>
LOCATION:Virtual
UID:e.838.23255
SEQUENCE:3
DTSTAMP:20260420T164103Z
URL:https://claremont-gzcms.preview.gochambermaster.com/events/details/how-to-save-with-tax-credits-23255
END:VEVENT

END:VCALENDAR
