BEGIN:VCALENDAR
VERSION:2.0
PRODID:-//ChamberMaster//Event Calendar 2.0//EN
METHOD:PUBLISH
X-PUBLISHED-TTL:P3D
REFRESH-INTERVAL:P3D
CALSCALE:GREGORIAN
BEGIN:VEVENT
DTSTART:20180823T003000Z
DTEND:20180823T023000Z
X-MICROSOFT-CDO-ALLDAYEVENT:FALSE
SUMMARY:Happy Hour at Southland Data Processing
DESCRIPTION:Bust out your business cards and join us for the ultimate summer soiree! Appetizers\, libations\, and the chance to network with an incredible local business community. What are you waiting for? Networking just turned social!\n\n\n\nRegister here. Cheers!
X-ALT-DESC;FMTTYPE=text/html:<span style="color:rgb(29\, 33\, 41)\; font-family:helvetica\,arial\,sans-serif\; font-size:14px">Bust out your business cards and join us for the ultimate summer soiree! Appetizers\, libations\, and the chance to network with an incredible local business community. What are you waiting for? Networking just turned social!</span><br />\n<br />\n<span style="color:rgb(29\, 33\, 41)\; font-family:helvetica\,arial\,sans-serif\; font-size:14px">Register <a href="https://www.facebook.com/events/472711776521998/">here</a>. Cheers!</span>
LOCATION:Southland Data Processing 1317 W Foothill Blvd\, Ste 222 Upland\, CA 91786
UID:e.838.19786
SEQUENCE:3
DTSTAMP:20260422T032641Z
URL:https://claremont-gzcms.preview.gochambermaster.com/events/details/happy-hour-at-southland-data-processing-19786
END:VEVENT

END:VCALENDAR
