BEGIN:VCALENDAR
VERSION:2.0
PRODID:-//ChamberMaster//Event Calendar 2.0//EN
METHOD:PUBLISH
X-PUBLISHED-TTL:P3D
REFRESH-INTERVAL:P3D
CALSCALE:GREGORIAN
BEGIN:VEVENT
DTSTART:20181027T010000Z
DTEND:20181027T040000Z
X-MICROSOFT-CDO-ALLDAYEVENT:FALSE
SUMMARY:Friday Nights LIVE! in The Claremont Village
DESCRIPTION:Friday Nights LIVE! in The Claremont Village\, music to entertain you and your family while you shop\, eat and browse the quaint village streets of Claremont.\n\n\nOctober 5\n\nPublic Plaza | Silverados - country rock \n\nClaremont Chamber | Mike's Guitar World\n\nShelton Park | Hank's Cadillac - country \n\nCity Hall | Technopagen - originals\n\n\n\nOctober 12\n\nPublic Plaza | Claremont Voodoo Society -  folk\, blues\n\nClaremont Chamber | Larry & Rhonda Jackson/Small Town Magic - blues\, folk\n\nShelton Park | Mick Rhodes and the Hard 8 - rock\n\nCity Hall | 40 AMP Fuse - rock\n\n \n\nOctober 19\n\nPublic Plaza | Dynamite Dawson - soft rock\n\nClaremont Chamber | Ana Maria de la Cruz - originals\, folk\, blues \n\nShelton Park | Pride of Cucamonga - Rock\n\nCity Hall | Honeybuckets - blues\n\n \n\nOctober 26\n\nPublic Plaza | Fab 8 - Beatles\n\nClaremont Chamber | Tropical Marimba\n\nShelton Park |  Squeekin' Wheels - folk\, blues \n\nCity Hall | Isabella Blue featuring Alexandria Noelle - original and covers
X-ALT-DESC;FMTTYPE=text/html:Friday Nights LIVE! in The Claremont Village\, music to entertain you and your family while you shop\, eat and browse the quaint village streets of Claremont.\n<p background-color:="" font-size:="" style="font-family: sans-serif\, Arial\, Verdana\, &quot\;Trebuchet MS&quot\;\; font-size: 13px\; box-sizing: border-box\; margin: 0px 0px 10px\; color: rgb(69\, 75\, 89)\;" work=""><br />\n<span style="color: rgb(69\, 75\, 89)\; font-family: sans-serif\, Arial\, Verdana\, &quot\;Trebuchet MS&quot\;\; font-size: 13px\; background-color: rgb(255\, 255\, 255)\; font-weight: bold\;"><span style="font-family: arial\;"><span style="font-size: 9.5pt\;">October 5</span></span></span><br style="color: rgb(69\, 75\, 89)\; font-family: sans-serif\, Arial\, Verdana\, &quot\;Trebuchet MS&quot\;\; font-size: 13px\; background-color: rgb(255\, 255\, 255)\;" />\n<span style="color: rgb(69\, 75\, 89)\; font-family: sans-serif\, Arial\, Verdana\, &quot\;Trebuchet MS&quot\;\; font-size: 13px\; background-color: rgb(255\, 255\, 255)\;"><span style="font-family: arial\;"><span style="font-size: 9.5pt\;">Public Plaza | Silverados - country rock&nbsp\;</span></span></span><br style="color: rgb(69\, 75\, 89)\; font-family: sans-serif\, Arial\, Verdana\, &quot\;Trebuchet MS&quot\;\; font-size: 13px\; background-color: rgb(255\, 255\, 255)\;" />\n<span style="color: rgb(69\, 75\, 89)\; font-family: sans-serif\, Arial\, Verdana\, &quot\;Trebuchet MS&quot\;\; font-size: 13px\; background-color: rgb(255\, 255\, 255)\;"><span style="font-family: arial\;"><span style="font-size: 9.5pt\;">Claremont Chamber | Mike&rsquo\;s Guitar World</span></span></span><br style="color: rgb(69\, 75\, 89)\; font-family: sans-serif\, Arial\, Verdana\, &quot\;Trebuchet MS&quot\;\; font-size: 13px\; background-color: rgb(255\, 255\, 255)\;" />\n<span style="color: rgb(69\, 75\, 89)\; font-family: sans-serif\, Arial\, Verdana\, &quot\;Trebuchet MS&quot\;\; font-size: 13px\; background-color: rgb(255\, 255\, 255)\;"><span style="font-family: arial\;"><span style="font-size: 9.5pt\;">Shelton Park | Hank&rsquo\;s Cadillac - country&nbsp\;</span></span></span><br style="color: rgb(69\, 75\, 89)\; font-family: sans-serif\, Arial\, Verdana\, &quot\;Trebuchet MS&quot\;\; font-size: 13px\; background-color: rgb(255\, 255\, 255)\;" />\n<span style="color: rgb(69\, 75\, 89)\; font-family: sans-serif\, Arial\, Verdana\, &quot\;Trebuchet MS&quot\;\; font-size: 13px\; background-color: rgb(255\, 255\, 255)\;"><span style="font-family: arial\;"><span style="font-size: 9.5pt\;">City Hall | Technopagen - originals</span></span></span><br style="color: rgb(69\, 75\, 89)\; font-family: sans-serif\, Arial\, Verdana\, &quot\;Trebuchet MS&quot\;\; font-size: 13px\; background-color: rgb(255\, 255\, 255)\;" />\n<br style="color: rgb(69\, 75\, 89)\; font-family: sans-serif\, Arial\, Verdana\, &quot\;Trebuchet MS&quot\;\; font-size: 13px\; background-color: rgb(255\, 255\, 255)\;" />\n<span style="color: rgb(69\, 75\, 89)\; font-family: sans-serif\, Arial\, Verdana\, &quot\;Trebuchet MS&quot\;\; font-size: 13px\; background-color: rgb(255\, 255\, 255)\; font-weight: bold\;"><span style="font-family: arial\;"><span style="font-size: 9.5pt\;">October 12</span></span></span><br style="color: rgb(69\, 75\, 89)\; font-family: sans-serif\, Arial\, Verdana\, &quot\;Trebuchet MS&quot\;\; font-size: 13px\; background-color: rgb(255\, 255\, 255)\;" />\n<span style="color: rgb(69\, 75\, 89)\; font-family: sans-serif\, Arial\, Verdana\, &quot\;Trebuchet MS&quot\;\; font-size: 13px\; background-color: rgb(255\, 255\, 255)\;"><span style="font-family: arial\;"><span style="font-size: 9.5pt\;">Public Plaza | Claremont Voodoo Society -&nbsp\; folk\, blues</span></span></span><br style="color: rgb(69\, 75\, 89)\; font-family: sans-serif\, Arial\, Verdana\, &quot\;Trebuchet MS&quot\;\; font-size: 13px\; background-color: rgb(255\, 255\, 255)\;" />\n<span style="color: rgb(69\, 75\, 89)\; font-family: sans-serif\, Arial\, Verdana\, &quot\;Trebuchet MS&quot\;\; font-size: 13px\; background-color: rgb(255\, 255\, 255)\;"><span style="font-family: arial\;"><span style="font-size: 9.5pt\;">Claremont Chamber | Larry &amp\; Rhonda Jackson/Small Town Magic - blues\, folk</span></span></span><br style="color: rgb(69\, 75\, 89)\; font-family: sans-serif\, Arial\, Verdana\, &quot\;Trebuchet MS&quot\;\; font-size: 13px\; background-color: rgb(255\, 255\, 255)\;" />\n<span style="color: rgb(69\, 75\, 89)\; font-family: sans-serif\, Arial\, Verdana\, &quot\;Trebuchet MS&quot\;\; font-size: 13px\; background-color: rgb(255\, 255\, 255)\;"><span style="font-family: arial\;"><span style="font-size: 9.5pt\;">Shelton Park | Mick Rhodes and the Hard 8 - rock</span></span></span><br style="color: rgb(69\, 75\, 89)\; font-family: sans-serif\, Arial\, Verdana\, &quot\;Trebuchet MS&quot\;\; font-size: 13px\; background-color: rgb(255\, 255\, 255)\;" />\n<span style="color: rgb(69\, 75\, 89)\; font-family: sans-serif\, Arial\, Verdana\, &quot\;Trebuchet MS&quot\;\; font-size: 13px\; background-color: rgb(255\, 255\, 255)\;"><span style="font-family: arial\;"><span style="font-size: 9.5pt\;">City Hall | 40 AMP Fuse - rock</span></span></span><br style="color: rgb(69\, 75\, 89)\; font-family: sans-serif\, Arial\, Verdana\, &quot\;Trebuchet MS&quot\;\; font-size: 13px\; background-color: rgb(255\, 255\, 255)\;" />\n<span style="color: rgb(69\, 75\, 89)\; font-family: sans-serif\, Arial\, Verdana\, &quot\;Trebuchet MS&quot\;\; font-size: 13px\; background-color: rgb(255\, 255\, 255)\;">&nbsp\;</span><br style="color: rgb(69\, 75\, 89)\; font-family: sans-serif\, Arial\, Verdana\, &quot\;Trebuchet MS&quot\;\; font-size: 13px\; background-color: rgb(255\, 255\, 255)\;" />\n<span style="color: rgb(69\, 75\, 89)\; font-family: sans-serif\, Arial\, Verdana\, &quot\;Trebuchet MS&quot\;\; font-size: 13px\; background-color: rgb(255\, 255\, 255)\; font-weight: bold\;"><span style="font-family: arial\;"><span style="font-size: 9.5pt\;">October 19</span></span></span><br style="color: rgb(69\, 75\, 89)\; font-family: sans-serif\, Arial\, Verdana\, &quot\;Trebuchet MS&quot\;\; font-size: 13px\; background-color: rgb(255\, 255\, 255)\;" />\n<span style="color: rgb(69\, 75\, 89)\; font-family: sans-serif\, Arial\, Verdana\, &quot\;Trebuchet MS&quot\;\; font-size: 13px\; background-color: rgb(255\, 255\, 255)\;"><span style="font-family: arial\;"><span style="font-size: 9.5pt\;">Public Plaza | Dynamite Dawson - soft rock</span></span></span><br style="color: rgb(69\, 75\, 89)\; font-family: sans-serif\, Arial\, Verdana\, &quot\;Trebuchet MS&quot\;\; font-size: 13px\; background-color: rgb(255\, 255\, 255)\;" />\n<span style="color: rgb(69\, 75\, 89)\; font-family: sans-serif\, Arial\, Verdana\, &quot\;Trebuchet MS&quot\;\; font-size: 13px\; background-color: rgb(255\, 255\, 255)\;"><span style="font-family: arial\;"><span style="font-size: 9.5pt\;">Claremont Chamber | Ana Maria de la Cruz - originals\, folk\, blues&nbsp\;</span></span></span><br style="color: rgb(69\, 75\, 89)\; font-family: sans-serif\, Arial\, Verdana\, &quot\;Trebuchet MS&quot\;\; font-size: 13px\; background-color: rgb(255\, 255\, 255)\;" />\n<span style="color: rgb(69\, 75\, 89)\; font-family: sans-serif\, Arial\, Verdana\, &quot\;Trebuchet MS&quot\;\; font-size: 13px\; background-color: rgb(255\, 255\, 255)\;"><span style="font-family: arial\;"><span style="font-size: 9.5pt\;">Shelton Park | Pride of Cucamonga - Rock</span></span></span><br style="color: rgb(69\, 75\, 89)\; font-family: sans-serif\, Arial\, Verdana\, &quot\;Trebuchet MS&quot\;\; font-size: 13px\; background-color: rgb(255\, 255\, 255)\;" />\n<span style="color: rgb(69\, 75\, 89)\; font-family: sans-serif\, Arial\, Verdana\, &quot\;Trebuchet MS&quot\;\; font-size: 13px\; background-color: rgb(255\, 255\, 255)\;"><span style="font-family: arial\;"><span style="font-size: 9.5pt\;">City Hall | Honeybuckets - blues</span></span></span><br style="color: rgb(69\, 75\, 89)\; font-family: sans-serif\, Arial\, Verdana\, &quot\;Trebuchet MS&quot\;\; font-size: 13px\; background-color: rgb(255\, 255\, 255)\;" />\n<span style="color: rgb(69\, 75\, 89)\; font-family: sans-serif\, Arial\, Verdana\, &quot\;Trebuchet MS&quot\;\; font-size: 13px\; background-color: rgb(255\, 255\, 255)\;">&nbsp\;</span><br style="color: rgb(69\, 75\, 89)\; font-family: sans-serif\, Arial\, Verdana\, &quot\;Trebuchet MS&quot\;\; font-size: 13px\; background-color: rgb(255\, 255\, 255)\;" />\n<span style="color: rgb(69\, 75\, 89)\; font-family: sans-serif\, Arial\, Verdana\, &quot\;Trebuchet MS&quot\;\; font-size: 13px\; background-color: rgb(255\, 255\, 255)\; font-weight: bold\;"><span style="font-family: arial\;"><span style="font-size: 9.5pt\;">October 26</span></span></span><br style="color: rgb(69\, 75\, 89)\; font-family: sans-serif\, Arial\, Verdana\, &quot\;Trebuchet MS&quot\;\; font-size: 13px\; background-color: rgb(255\, 255\, 255)\;" />\n<span style="color: rgb(69\, 75\, 89)\; font-family: sans-serif\, Arial\, Verdana\, &quot\;Trebuchet MS&quot\;\; font-size: 13px\; background-color: rgb(255\, 255\, 255)\;"><span style="font-family: arial\;"><span style="font-size: 9.5pt\;">Public Plaza | Fab 8 - Beatles</span></span></span><br style="color: rgb(69\, 75\, 89)\; font-family: sans-serif\, Arial\, Verdana\, &quot\;Trebuchet MS&quot\;\; font-size: 13px\; background-color: rgb(255\, 255\, 255)\;" />\n<span style="color: rgb(69\, 75\, 89)\; font-family: sans-serif\, Arial\, Verdana\, &quot\;Trebuchet MS&quot\;\; font-size: 13px\; background-color: rgb(255\, 255\, 255)\;"><span style="font-family: arial\;"><span style="font-size: 9.5pt\;">Claremont Chamber | Tropical Marimba</span></span></span><br style="color: rgb(69\, 75\, 89)\; font-family: sans-serif\, Arial\, Verdana\, &quot\;Trebuchet MS&quot\;\; font-size: 13px\; background-color: rgb(255\, 255\, 255)\;" />\n<span style="color: rgb(69\, 75\, 89)\; font-family: sans-serif\, Arial\, Verdana\, &quot\;Trebuchet MS&quot\;\; font-size: 13px\; background-color: rgb(255\, 255\, 255)\;"><span style="font-family: arial\;"><span style="font-size: 9.5pt\;">Shelton Park |&nbsp\;&nbsp\;</span></span></span><span style="color: rgb(69\, 75\, 89)\; font-family: arial\; font-size: 12.6667px\; background-color: rgb(255\, 255\, 255)\;">Squeekin&rsquo\; Wheels - folk\, blues&nbsp\;</span><br style="color: rgb(69\, 75\, 89)\; font-family: sans-serif\, Arial\, Verdana\, &quot\;Trebuchet MS&quot\;\; font-size: 13px\; background-color: rgb(255\, 255\, 255)\;" />\n<span style="color: rgb(69\, 75\, 89)\; font-family: sans-serif\, Arial\, Verdana\, &quot\;Trebuchet MS&quot\;\; font-size: 13px\; background-color: rgb(255\, 255\, 255)\;"><span style="font-family: arial\;"><span style="font-size: 9.5pt\;">City Hall |&nbsp\;</span></span></span>Isabella Blue featuring Alexandria Noelle - original and covers<br />\n&nbsp\;</p>\n
LOCATION:Public Plaza\, 101 N Indian Hill Blvd. Claremont Chamber of Commerce\, 205 Yale Avenue Shelton Park\, Bonita & Harvard Ave. City Hall\, 225 W Second Street
UID:e.838.18934
SEQUENCE:3
DTSTAMP:20260421T091650Z
URL:https://claremont-gzcms.preview.gochambermaster.com/events/details/friday-nights-live-in-the-claremont-village-10-26-2018-18934
END:VEVENT

END:VCALENDAR
