BEGIN:VCALENDAR
VERSION:2.0
PRODID:-//ChamberMaster//Event Calendar 2.0//EN
METHOD:PUBLISH
X-PUBLISHED-TTL:P3D
REFRESH-INTERVAL:P3D
CALSCALE:GREGORIAN
BEGIN:VEVENT
DTSTART:20190831T010000Z
DTEND:20190831T040000Z
X-MICROSOFT-CDO-ALLDAYEVENT:FALSE
SUMMARY:Friday Nights LIVE! in The Claremont Village
DESCRIPTION:Friday Nights LIVE! in The Claremont Village\, music to entertain you and your family while you shop\, eat and browse the quaint village streets of Claremont.\n\n\n\nPlaza - Marc Weller Combo (jazz/blues)\n\nChamber of Commerce - dzuls\n\nCity Hall Patio - Kappa Kappa Psi Cal Poly\n\nShelton Park - Claremont VooDoo Society (blues/folk)
X-ALT-DESC;FMTTYPE=text/html:Friday Nights LIVE! in The Claremont Village\, music to entertain you and your family while you shop\, eat and browse the quaint village streets of Claremont.<br />\n<br />\n<span style="font-size:16.0pt\;">Plaza - Marc Weller Combo (jazz/blues)</span><br />\n<span style="font-size:16.0pt\;">Chamber of Commerce - dzuls</span><br />\n<span style="font-size:16.0pt\;">City Hall Patio - Kappa Kappa Psi Cal Poly</span><br />\n<span style="font-size:16.0pt\;">Shelton Park - Claremont VooDoo Society (blues/folk)</span>\n<p background-color:="" font-size:="" style="font-family: sans-serif\, Arial\, Verdana\, &quot\;Trebuchet MS&quot\;\; font-size: 13px\; box-sizing: border-box\; margin: 0px 0px 10px\; color: rgb(69\, 75\, 89)\;" work="">&nbsp\;</p>\n
LOCATION:Public Plaza\, 101 N Indian Hill Blvd. Claremont Chamber of Commerce\, 205 Yale Avenue Shelton Park\, Bonita & Harvard Ave. City Hall\, 225 W Second Street
UID:e.838.24856
SEQUENCE:3
DTSTAMP:20260420T003429Z
URL:https://claremont-gzcms.preview.gochambermaster.com/events/details/friday-nights-live-in-the-claremont-village-08-30-2019-24856
END:VEVENT

END:VCALENDAR
