BEGIN:VCALENDAR
VERSION:2.0
PRODID:-//ChamberMaster//Event Calendar 2.0//EN
METHOD:PUBLISH
X-PUBLISHED-TTL:P3D
REFRESH-INTERVAL:P3D
CALSCALE:GREGORIAN
BEGIN:VEVENT
DTSTART:20191010T013000Z
DTEND:20191010T033000Z
X-MICROSOFT-CDO-ALLDAYEVENT:FALSE
SUMMARY:FREE CBD Workshop!
DESCRIPTION:Free CBD Workshop at Feeling Groovy Wellness & Caf \n\nOctober 9th at 6:30pm\n\n\n\nInformation\, Door Prizes and Discounts! \n\n\n\nBring a friend and receive an "extra" discount! \n\n\n\nPlease RSVP 909-480-1711
X-ALT-DESC;FMTTYPE=text/html:Free CBD Workshop at Feeling Groovy Wellness &amp\; Caf&eacute\;<br />\nOctober 9th at 6:30pm<br />\n<br />\nInformation\, Door Prizes and Discounts!&nbsp\;<br />\n<br />\nBring a friend and receive an &quot\;extra&quot\; discount!&nbsp\;<br />\n<br />\nPlease RSVP 909-480-1711
LOCATION:Feeling Groovy Wellness & Caf 863 W Foothill Blvd Claremont\, CA 91711
UID:e.838.29598
SEQUENCE:3
DTSTAMP:20260419T203837Z
URL:https://claremont-gzcms.preview.gochambermaster.com/events/details/free-cbd-workshop-29598
END:VEVENT

END:VCALENDAR
