BEGIN:VCALENDAR
VERSION:2.0
PRODID:-//ChamberMaster//Event Calendar 2.0//EN
METHOD:PUBLISH
X-PUBLISHED-TTL:P3D
REFRESH-INTERVAL:P3D
CALSCALE:GREGORIAN
BEGIN:VEVENT
DTSTART:20180426T160000Z
DTEND:20180427T020000Z
X-MICROSOFT-CDO-ALLDAYEVENT:FALSE
SUMMARY:Dining Out For Life 2018 at Nothing Bundt Cakes
DESCRIPTION:Indulge your sweet-tooth\, guilt free!\n\n\n\nOkay\, your doctor may not agree\, but when you pick up an order at Nothing Bundt Cakes in La Verne on April 26\, a generous portion of your bill will be donated to Foothill AIDS Project! So get yourself a cake just because you're awesome and ask for it to be ready on Thursday\, April 26!
X-ALT-DESC;FMTTYPE=text/html:Indulge your sweet-tooth\, guilt free!<br />\n<br />\nOkay\, your doctor may not agree\, but when you pick up an order at Nothing Bundt Cakes in La Verne on April 26\, a generous portion of your bill will be donated to Foothill AIDS Project! So get yourself a cake just because you&#39\;re awesome and ask for it to be ready on Thursday\, April 26!
LOCATION:Nothing Bundt Cakes 2084 Foothill Blvd. Ste. H La Verne\, CA 91750
UID:e.838.17858
SEQUENCE:3
DTSTAMP:20260422T145836Z
URL:https://claremont-gzcms.preview.gochambermaster.com/events/details/dining-out-for-life-2018-at-nothing-bundt-cakes-17858
END:VEVENT

END:VCALENDAR
