BEGIN:VCALENDAR
VERSION:2.0
PRODID:-//ChamberMaster//Event Calendar 2.0//EN
METHOD:PUBLISH
X-PUBLISHED-TTL:P3D
REFRESH-INTERVAL:P3D
CALSCALE:GREGORIAN
BEGIN:VEVENT
DTSTART:20170116T080000Z
DTEND:20170129T080000Z
X-MICROSOFT-CDO-ALLDAYEVENT:FALSE
SUMMARY:Claremont Restaurant Week
DESCRIPTION:Don't miss out - Sign up now for Claremont Restaurant Week coming this January!\n\n \n\nTo take advantage of Visit California's statewide media push and advertising program\, Claremont is participating in the January 2017 California Restaurant Month. Claremont Restaurant Week will run for 2 weeks from January 16th through the 29th and will be supported by a Claremont Tourism BID hotel special.\n\n\n\nWe've made it easier than ever to participate: Simply put together a Claremont-related special for the 2 weeks and print it onto a template that we will be sending you. Restaurants might choose to offer a prix fixe\, or special cocktails and small plates\; food boutiques can offer Claremont-inspired baked goods\, sandwiches or flavors.\nAs an official "2017 Claremont Restaurant Week" participant\, I agree to:\n\n\n	Offer (a special menu/featured ingredient/etc) daily January 16th - 29th  2017\n	Promote restaurant week through social media\, email\, website\, and in restaurant with collateral (check inserts\, special menus\, etc)\n	Use official restaurant week logo on menus\, website and wherever possible\n	Claremont Chamber will be providing Restaurant Week menu templates\n	To train restaurant staff on the restaurant week special offer\n	To track restaurant week covers using a dedicated button on POS system\n	Participate in post-program survey and report restaurant week activity\n	(1) $25 Gift cards for surprise and delight promotions on social media\n	Chamber member's pay a $50.00 fee\n	Non-Chamber member's pay a $100.00 fee\n	Click on the link below to register for this event\n\n\nClaremont Chamber will provide the following benefits:\n\n\n	Restaurant Logo included on all 2017 Restaurant Week collateral\, website and paid print advertising\n	Restaurant promotion in related social content\n	Restaurant inclusion in all media pitches\n	(Place California Restaurant Month Logo) (Place Visit California Logo)
X-ALT-DESC;FMTTYPE=text/html:&nbsp\;\n<hr /><span style="color:#FF0000\;"><strong>Don&#39\;t miss out - Sign up now for Claremont Restaurant Week coming this January!</strong></span><br />\n&nbsp\;<br />\nTo take advantage of Visit California&#39\;s statewide media push and advertising program\, Claremont is participating in the&nbsp\;January 2017 California Restaurant Month. Claremont Restaurant Week will run for 2 weeks from&nbsp\;January 16th through the 29th&nbsp\;and will be supported by a Claremont Tourism BID hotel special.<br />\n<br />\nWe&#39\;ve made it easier than ever to participate: Simply put together a Claremont-related special for the 2 weeks and print it onto a template that we will be sending you. Restaurants might choose to offer a prix fixe\, or special cocktails and small plates\; food boutiques can offer Claremont-inspired baked goods\, sandwiches or flavors.\n<hr /><strong><span style="color:#FF0000\;">As an official &quot\;2017 Claremont Restaurant Week&quot\; participant\, I agree to:</span></strong>\n\n<ul>\n	<li>Offer (a special menu/featured ingredient/etc) daily January 16th - 29th &nbsp\;2017</li>\n	<li>Promote restaurant week through social media\, email\, website\, and in restaurant with collateral (check inserts\, special menus\, etc)</li>\n	<li>Use official restaurant week logo on menus\, website and wherever possible</li>\n	<li>Claremont Chamber will be providing Restaurant Week menu templates</li>\n	<li>To train restaurant staff on the restaurant week special offer</li>\n	<li>To track restaurant week covers using a dedicated button on POS system</li>\n	<li>Participate in post-program survey and report restaurant week activity</li>\n	<li>(1) $25 Gift cards for surprise and delight promotions on social media</li>\n	<li>Chamber member&#39\;s pay a<strong>&nbsp\;$50.00</strong>&nbsp\;fee</li>\n	<li>Non-Chamber member&#39\;s pay a&nbsp\;<strong>$100.00</strong>&nbsp\;fee</li>\n	<li>Click on the link below to register for this event</li>\n</ul>\n\n<hr /><span style="color:#FF0000\;"><strong>Claremont Chamber will provide the following benefits:</strong></span>\n\n<ul>\n	<li>Restaurant Logo included on all 2017 Restaurant Week collateral\, website and&nbsp\;paid print advertising</li>\n	<li>Restaurant promotion in related social content</li>\n	<li>Restaurant inclusion in all media pitches</li>\n	<li>(Place California Restaurant Month Logo) (Place Visit California Logo)</li>\n</ul>\n\n<hr />
LOCATION:
UID:e.838.14095
SEQUENCE:3
DTSTAMP:20260424T153708Z
URL:https://claremont-gzcms.preview.gochambermaster.com/events/details/claremont-restaurant-week-14095
END:VEVENT

END:VCALENDAR
