BEGIN:VCALENDAR
VERSION:2.0
PRODID:-//ChamberMaster//Event Calendar 2.0//EN
METHOD:PUBLISH
X-PUBLISHED-TTL:P3D
REFRESH-INTERVAL:P3D
CALSCALE:GREGORIAN
BEGIN:VEVENT
DTSTART:20190508T003000Z
DTEND:20190508T023000Z
X-MICROSOFT-CDO-ALLDAYEVENT:FALSE
SUMMARY:Claremont Chamber Happy Hour at Lost Levels - Claremont
DESCRIPTION:Claremont Chamber Presents\n\nHappy Hour | Networking just turned social.\n\n21+ Event\n\n	Appetizers provided.\n	No reservations\, just show up!
X-ALT-DESC;FMTTYPE=text/html:Claremont Chamber Presents<br />\n<strong>Happy Hour</strong>&nbsp\;| Networking just turned social.<br />\n21+ Event\n<ul>\n	<li>Appetizers provided.</li>\n	<li>No reservations\, just show up!</li>\n</ul>\n
LOCATION:530 W 1st St\, Claremont\, CA 91711 https://www.facebook.com/lostlevelsclaremont/
UID:e.838.24835
SEQUENCE:3
DTSTAMP:20260420T124725Z
URL:https://claremont-gzcms.preview.gochambermaster.com/events/details/claremont-chamber-happy-hour-at-lost-levels-claremont-24835
END:VEVENT

END:VCALENDAR
