BEGIN:VCALENDAR
VERSION:2.0
PRODID:-//ChamberMaster//Event Calendar 2.0//EN
METHOD:PUBLISH
X-PUBLISHED-TTL:P3D
REFRESH-INTERVAL:P3D
CALSCALE:GREGORIAN
BEGIN:VEVENT
DTSTART:20190212T153000Z
DTEND:20190212T170000Z
X-MICROSOFT-CDO-ALLDAYEVENT:FALSE
SUMMARY:Chamber Business Over Breakfast - State of the Chamber 2019
DESCRIPTION:Business Over Breakfast - State of the Chamber 2019\nGet to know how your Chamber works and how we can help your business.\n\nNetwork\, get informed\, and have fun!\n\n \nComplete registration online or by calling the Claremont Chamber of Commerce Office (909) 624-1681 by Monday\, February 11th\, at 12:00 pm.\n\n\n\nTake advantage of the free advertising the Chamber of Commerce provides at Breakfast.\n\n\n\nBring flyers and business cards to place on our networking table. \n\n\n\nYour ads or flyers can be featured in the Breakfast PowerPoint Presentation for free. \n\n\n\nFlyers for the PowerPoint Presentation must be emailed to Evelyn at evelyn@claremontchamber.org by Monday\, February 11th at 12:00 pm.\n\n\n\nPreferred format for flyers - jpeg or pdf\, landscape\, 13.33 in. x 7.5 in.
X-ALT-DESC;FMTTYPE=text/html:<span style="color:#000000\;">&#8203\;Business Over Breakfast - State of the Chamber 2019</span>\n<div><span style="color:#000000\;">Get to know how your Chamber works and how we can help your business.</span></div>\n\n<div><span style="color:#000000\;">Network\, get informed\, and have fun!</span></div>\n\n<div>&nbsp\;</div>\n<span style="color:#000000\;">Complete registration online or by calling the Claremont Chamber of Commerce Office (909) 624-1681 by Monday\, February 11th\, at 12:00 pm.<br />\n<br />\nTake advantage of the free advertising the Chamber of Commerce provides at Breakfast.<br />\n<br />\nBring flyers and business cards to place on our networking table.&nbsp\;<br />\n<br />\nYour ads or flyers can be featured in the Breakfast PowerPoint Presentation for free.&nbsp\;<br />\n<br />\nFlyers for the PowerPoint Presentation must be emailed to Evelyn at evelyn@claremontchamber.org<wbr />&nbsp\;by Monday\, February 11th at 12:00 pm.<br />\n<br />\nPreferred format for flyers - jpeg or pdf\, landscape\, 13.33 in. x 7.5 in.</span><br />\n&nbsp\;\n<div>&nbsp\;</div>\n
LOCATION:Doubletree Hotel 555 W Foothill Blvd Claremont
UID:e.838.17285
SEQUENCE:3
DTSTAMP:20260420T164407Z
URL:https://claremont-gzcms.preview.gochambermaster.com/events/details/chamber-business-over-breakfast-state-of-the-chamber-2019-17285
END:VEVENT

END:VCALENDAR
