BEGIN:VCALENDAR
VERSION:2.0
PRODID:-//ChamberMaster//Event Calendar 2.0//EN
METHOD:PUBLISH
X-PUBLISHED-TTL:P3D
REFRESH-INTERVAL:P3D
CALSCALE:GREGORIAN
BEGIN:VEVENT
DTSTART:20160724T210000Z
DTEND:20160725T000000Z
X-MICROSOFT-CDO-ALLDAYEVENT:FALSE
SUMMARY:Ceviche and Sangria
DESCRIPTION:Learn about the art and simplicity of making ceviche vomFASS style. Enjoy this delectable treat with vomFASS special recipe Sangria. Recipes and tastings will be provided.
X-ALT-DESC;FMTTYPE=text/html:<span style="font-family:arial\,helvetica\,sans-serif"><span style="font-size:14px">Learn about the art and simplicity of making ceviche&mdash\;vomFASS style. Enjoy this delectable&nbsp\;treat with vomFASS special recipe Sangria. Recipes and tastings will be provided.</span></span>
LOCATION:vomFASS Claremont 101 N. Indian Hill Blvd Suite C2-100 (enter on 1st street) Claremont\, CA 91711 Tel: (909) 399-0256 info@vomfassclaremont.com
UID:e.838.12051
SEQUENCE:3
DTSTAMP:20260425T025555Z
URL:https://claremont-gzcms.preview.gochambermaster.com/events/details/ceviche-and-sangria-07-24-2016-12051
END:VEVENT

END:VCALENDAR
