BEGIN:VCALENDAR
VERSION:2.0
PRODID:-//ChamberMaster//Event Calendar 2.0//EN
METHOD:PUBLISH
X-PUBLISHED-TTL:P3D
REFRESH-INTERVAL:P3D
CALSCALE:GREGORIAN
BEGIN:VEVENT
DTSTART:20160607T203000Z
DTEND:20160607T223000Z
X-MICROSOFT-CDO-ALLDAYEVENT:FALSE
SUMMARY:Celebrating Cancer Survivors Day | A service of the PVHMC
DESCRIPTION:Feeling Good with Essential Oils\, presented by Melinda Barraza\, Wellness Advocate. Learn what all the buzz is about with essential oils!\n\n	Importance of quality with essential oils\n	How to use essential oils\n	Learn how essential oils help reduce anxious feelings\n	Relaxation techniques and emotional support\n	FREE program - RSVP to 909.865.9858
X-ALT-DESC;FMTTYPE=text/html:Feeling Good with Essential Oils\, presented by Melinda Barraza\, Wellness Advocate. Learn what all the buzz is about with essential oils!\n<ul>\n	<li>Importance of quality with essential oils</li>\n	<li>How to use essential oils</li>\n	<li>Learn how essential oils help reduce anxious feelings</li>\n	<li>Relaxation techniques and emotional support</li>\n	<li>FREE program - RSVP to 909.865.9858</li>\n</ul>\n
LOCATION:The Robert & Beverly Lewis Family Cancer Care Center
UID:e.838.11953
SEQUENCE:3
DTSTAMP:20260425T042314Z
URL:https://claremont-gzcms.preview.gochambermaster.com/events/details/celebrating-cancer-survivors-day-a-service-of-the-pvhmc-06-07-2016-11953
END:VEVENT

END:VCALENDAR
