BEGIN:VCALENDAR
VERSION:2.0
PRODID:-//ChamberMaster//Event Calendar 2.0//EN
METHOD:PUBLISH
X-PUBLISHED-TTL:P3D
REFRESH-INTERVAL:P3D
CALSCALE:GREGORIAN
BEGIN:VEVENT
DTSTART:20161028T010000Z
DTEND:20161028T030000Z
X-MICROSOFT-CDO-ALLDAYEVENT:FALSE
SUMMARY:Candlelight Vigil
DESCRIPTION:This event is sponsored by House of Ruth.\n\n\n\nJoin us as we raise awareness about domestic violence.
X-ALT-DESC;FMTTYPE=text/html:<p><span style="font-size:14px\;"><span style="font-family:arial\;"><em>This event is sponsored by House of Ruth.</em><br />\n<br />\nJoin us as we raise awareness about domestic violence.&nbsp\;</span></span></p>\n
LOCATION:599 N Main St Pomona CA 91768
UID:e.838.13626
SEQUENCE:3
DTSTAMP:20260424T225014Z
URL:https://claremont-gzcms.preview.gochambermaster.com/events/details/candlelight-vigil-13626
END:VEVENT

END:VCALENDAR
