BEGIN:VCALENDAR
VERSION:2.0
PRODID:-//ChamberMaster//Event Calendar 2.0//EN
METHOD:PUBLISH
X-PUBLISHED-TTL:P3D
REFRESH-INTERVAL:P3D
CALSCALE:GREGORIAN
BEGIN:VEVENT
DTSTART:20170419T150000Z
DTEND:20170419T170000Z
X-MICROSOFT-CDO-ALLDAYEVENT:FALSE
SUMMARY:Business Crime Watch Seminar
DESCRIPTION:**Make sure to register by clicking on the link below\, or calling the Chamber Office**\n\n\n\nCLAREMONT POLICE DEPARTMENT AND\n\nCLAREMONT CHAMBER OF COMMERCE PRESENTS \n\n\n\nBUSINESS CRIME WATCH SEMINAR\n\n\n\nPRESENTATION BY\n\nSergeant Robert Ewing\n\n\n\nWEDNESDAY\n\nApril 19\, 2017\n\n8 am   10 am\n\n\n\nHOSTED BY\n\nDoubletree by Hilton\n\n555 W Foothill Blvd\, Claremont\, Ca 91711\n\n\n\nPARTNER WITH THE CLAREMONT POLICE DEPARTMENT\n\nand other businesses in the City of Claremont to combat crime.\n\n\n\nThis valuable presentation with a question and answer session is open to ALL Claremont business owners and employees and is FREE OF CHARGE! The goal of this presentation is to help business owners take steps to safeguard their business and employees from business-related crimes\, provide information regarding crime reduction techniques\, and other important topics every business owner should be aware of.\n\n\n\nPLEASE RSVP WITH your business name and the number attending to Lisa Amaya by calling (909) 399-5404 or emailing her at lamaya@ci.claremont.ca.us\n\n\n\nIf you would like more information about this presentation\, please contact Sergeant Robert Ewing at (909) 399-5409 or rewing@ci.claremont.ca.us
X-ALT-DESC;FMTTYPE=text/html:<div><span style="color: rgb(75\, 79\, 86)\; font-family: Helvetica\, Arial\, sans-serif\; font-size: 14px\;">**Make sure to register by clicking on the link below\, or calling the Chamber Office**</span><br />\n<br />\n<span style="font-size:12px\;"><span style="font-family:arial\;"><span style="color: rgb(75\, 79\, 86)\;">CLAREMONT POLICE DEPARTMENT AND</span><br style="color: rgb(75\, 79\, 86)\; font-family: Helvetica\, Arial\, sans-serif\; font-size: 14px\;" />\n<span style="color: rgb(75\, 79\, 86)\;">CLAREMONT CHAMBER OF COMMERCE PRESENTS&nbsp\;</span><br style="color: rgb(75\, 79\, 86)\; font-family: Helvetica\, Arial\, sans-serif\; font-size: 14px\;" />\n<br style="color: rgb(75\, 79\, 86)\; font-family: Helvetica\, Arial\, sans-serif\; font-size: 14px\;" />\n<span style="color: rgb(75\, 79\, 86)\;">BUSINESS CRIME WATCH SEMINAR</span><br style="color: rgb(75\, 79\, 86)\; font-family: Helvetica\, Arial\, sans-serif\; font-size: 14px\;" />\n<br style="color: rgb(75\, 79\, 86)\; font-family: Helvetica\, Arial\, sans-serif\; font-size: 14px\;" />\n<span style="color: rgb(75\, 79\, 86)\;">PRESENTATION BY</span><br style="color: rgb(75\, 79\, 86)\; font-family: Helvetica\, Arial\, sans-serif\; font-size: 14px\;" />\n<span style="color: rgb(75\, 79\, 86)\;">Sergeant Robert Ewing</span><br style="color: rgb(75\, 79\, 86)\; font-family: Helvetica\, Arial\, sans-serif\; font-size: 14px\;" />\n<br style="color: rgb(75\, 79\, 86)\; font-family: Helvetica\, Arial\, sans-serif\; font-size: 14px\;" />\n<span style="color: rgb(75\, 79\, 86)\;">WEDNESDAY</span><br style="color: rgb(75\, 79\, 86)\; font-family: Helvetica\, Arial\, sans-serif\; font-size: 14px\;" />\n<span style="color: rgb(75\, 79\, 86)\;">April 19\, 2017</span><br style="color: rgb(75\, 79\, 86)\; font-family: Helvetica\, Arial\, sans-serif\; font-size: 14px\;" />\n<span style="color: rgb(75\, 79\, 86)\;">8 am &ndash\; 10 am</span><br style="color: rgb(75\, 79\, 86)\; font-family: Helvetica\, Arial\, sans-serif\; font-size: 14px\;" />\n<br />\n<span class="text_exposed_show" style="display: inline\; color: rgb(75\, 79\, 86)\;">HOSTED BY<br />\nDoubletree by Hilton<br />\n555 W Foothill Blvd\, Claremont\, Ca 91711<br />\n<br />\nPARTNER WITH THE CLAREMONT POLICE DEPARTMENT<br />\nand other businesses in the City of Claremont to combat crime.<br />\n<br />\nThis valuable presentation with a question and answer session is open to ALL Claremont business owners and employees and is FREE OF CHARGE! The goal of this presentation is to help business owners take steps to safeguard their business and employees from business-related crimes\, provide information regarding crime reduction techniques\, and other important topics every business owner should be aware of.<br />\n<br />\nPLEASE RSVP WITH your business name and the number attending to Lisa Amaya by calling (909) 399-5404 or emailing her at lamaya@ci.claremont.ca.us<br />\n<br />\nIf you would like more information about this presentation\, please contact Sergeant Robert Ewing at (909) 399-5409 or rewing@ci.claremont.ca.us</span></span></span></div>\n
LOCATION:Doubletree by Hilton 555 W. Foothill Blvd. Claremont\, Ca 91711
UID:e.838.16140
SEQUENCE:3
DTSTAMP:20260424T160034Z
URL:https://claremont-gzcms.preview.gochambermaster.com/events/details/business-crime-watch-seminar-16140
END:VEVENT

END:VCALENDAR
