BEGIN:VCALENDAR
VERSION:2.0
PRODID:-//ChamberMaster//Event Calendar 2.0//EN
METHOD:PUBLISH
X-PUBLISHED-TTL:P3D
REFRESH-INTERVAL:P3D
CALSCALE:GREGORIAN
BEGIN:VEVENT
DTSTART:20170625T200000Z
DTEND:20170625T210000Z
X-MICROSOFT-CDO-ALLDAYEVENT:FALSE
SUMMARY:Book Signing
DESCRIPTION:This event is sponsored by Rhino Records / Video Paradiso.\n\n\n\nPhotographer Robert Landau will be reading from his book "Rock 'N' Roll Billboards Of The Sunset Strip" at Rhino Records on Sunday June 25 at 1pm.\n\nFollowing the reading\, there will be a question and answer session by David Allen of The Daily Bulletin. Landau will be selling and signing copies of his book. This event is free to the public. Feel free to contact Rhino Records with any questions related to this event.
X-ALT-DESC;FMTTYPE=text/html:<em>This event is sponsored by Rhino Records / Video Paradiso.</em><br />\n<br />\nPhotographer Robert Landau will be reading from his book &quot\;Rock &#39\;N&#39\; Roll Billboards Of The Sunset Strip&quot\; at Rhino Records on Sunday June 25 at 1pm.<br />\nFollowing the reading\, there will be a question and answer session by David Allen of The Daily Bulletin. Landau will be selling and signing copies of his book. This event is free to the public. Feel free to contact Rhino Records with any questions related to this event.
LOCATION:Rhino Records 235 Yale Ave Claremont\, CA 91711
UID:e.838.16340
SEQUENCE:3
DTSTAMP:20260424T045500Z
URL:https://claremont-gzcms.preview.gochambermaster.com/events/details/book-signing-16340
END:VEVENT

END:VCALENDAR
