BEGIN:VCALENDAR
VERSION:2.0
PRODID:-//ChamberMaster//Event Calendar 2.0//EN
METHOD:PUBLISH
X-PUBLISHED-TTL:P3D
REFRESH-INTERVAL:P3D
CALSCALE:GREGORIAN
BEGIN:VEVENT
DTSTART:20180427T170000Z
DTEND:20180427T190000Z
X-MICROSOFT-CDO-ALLDAYEVENT:FALSE
SUMMARY:Anthesis Spring Open House
DESCRIPTION:Anthesis Open House "The World of Art" is just around the corner! Tour the Anthesis ADC and RASS programs and enjoy snacks\, crafts and art from around the world\, prepared by our very own Program Participants. ADC and RASS art pieces will be for sale during the open house.
X-ALT-DESC;FMTTYPE=text/html:<span style="background-color:rgb(255\, 255\, 255)\; color:rgb(29\, 33\, 41)">Anthesis Open House &ldquo\;The World of Art&rdquo\; is just around the corner! Tour the Anthesis ADC and RASS programs and enjoy snacks\, crafts and art from around the world\, prepared by our very own Program Participants. ADC and RASS art pieces will be for sale during the open house.</span>
LOCATION:ADC: 10550 Ramona Ave. Montclair\, CA 91763 RASS: 4669 Holt Blvd. Montclair\, CA 91763
UID:e.838.17779
SEQUENCE:3
DTSTAMP:20260423T043754Z
URL:https://claremont-gzcms.preview.gochambermaster.com/events/details/anthesis-spring-open-house-17779
END:VEVENT

END:VCALENDAR
